BEGIN:VCALENDAR
VERSION:2.0
PRODID:-//ChamberMaster//Event Calendar 2.0//EN
METHOD:PUBLISH
X-PUBLISHED-TTL:P3D
REFRESH-INTERVAL:P3D
CALSCALE:GREGORIAN
BEGIN:VEVENT
DTSTART:20281218T130000Z
DTEND:20281218T134500Z
X-MICROSOFT-CDO-ALLDAYEVENT:FALSE
SUMMARY:Zumba at Altos Del Mar Park in North Beach
DESCRIPTION:Dance to the rhythm of Latin beats\, meet fun people and get your heart rate high! Dance in the park\, in the shade of palm trees with ocean breezes nearby. So much fun you'll forget you're working out!
X-ALT-DESC;FMTTYPE=text/html:Dance to the rhythm of Latin beats\, meet fun people and get your heart rate high! Dance in the park\, in the shade of palm trees with ocean breezes nearby. So much fun you&#39\;ll forget you&#39\;re working out!
LOCATION:76th Street and Collins Avenue in Altos Del Mar Park
UID:e.166.83522
SEQUENCE:3
DTSTAMP:20260422T173110Z
URL:https://business.miamibeachchamber.com/events/details/zumba-at-altos-del-mar-park-in-north-beach-12-18-2028-83522
END:VEVENT

END:VCALENDAR
