BEGIN:VCALENDAR
VERSION:2.0
PRODID:-//ChamberMaster//Event Calendar 2.0//EN
METHOD:PUBLISH
X-PUBLISHED-TTL:P3D
REFRESH-INTERVAL:P3D
CALSCALE:GREGORIAN
BEGIN:VEVENT
DTSTART:20191218T160000Z
DTEND:20191218T190000Z
X-MICROSOFT-CDO-ALLDAYEVENT:FALSE
SUMMARY:You're invited to shop our products at the MBCC Women's Business Council's “Holiday Shop & Sip Gathering”
DESCRIPTION:Hello Attract Essentials Friends\, Family & Supporters! \n\nYou Are Invited to the Following Event:\n\nShop our Root\, Branch & Blossom Products in Miami at the MBCC Women's Business Council's \n\n"Holiday Shop & Sip Gathering"\n\nPlease join us to celebrate the holidays with our first ever event with the Miami Beach Chamber of Commerce. Shop with MBCC member vendors. Sip wine and network with women business owners and professionals. Enjoy art exhibits from local artists along with lite bites\, music\, special live entertainment and much more!\n\n \n\nEvent to be held at the following time\, date\, and location:\n\nWednesday\, December 18\, 2019 from 11:00 AM to 2:00 PM (EST)\n\nMiami Beach Woman's Club\n\n2401 Pine Tree Dr\n\nMiami Beach\, FL 33140\n\nView Map\n\nGo To The Event Page on The Miami Beach Chamber of Commerce Website\n\n \n\n\n\n	\n		\n			\n			Rodd and I are very excited to introduce our business to the world and we want to thank you\, our friends\, family and supporters\, for being such a big part of it.\n\n			Please join us at this special occasion and assist supporting this and other majority owned women's small business\, now in Miami.\n\n			 \n\n			FEES/ADMISSION\n\n			Your $10 Donation Admission supports women in business and goes towards the Women's Business Council Scholarship Fund\n\n			Non-Members: Please RSVP & Make your payment with Subrena@miamibeachchamber.com 305-674-1300 Ext. 3300.\n\n			We can't wait to see you!
X-ALT-DESC;FMTTYPE=text/html:<div>\n<h4 style="text-align:center"><span style="color:#333333\;"><span style="font-family:arial\,sans-serif\;"><span style="font-size:10.0pt\;">Hello&nbsp\;<em>Attract Essentials</em> Friends\, Family &amp\; Supporters!&nbsp\;<br />\nYou Are Invited to the Following Event:</span></span></span><br />\n<span style="color:#333333\;"><span style="font-family:arial\,sans-serif\;"><span style="font-size:10.0pt\;">Shop our Root\, Branch &amp\; Blossom Products in Miami at the MBCC Women&rsquo\;s Business Council&rsquo\;s </span></span></span><br />\n<span style="color:#333333\;"><span style="font-family:arial\,sans-serif\;"><span style="font-size:10.0pt\;">&ldquo\;Holiday Shop &amp\; Sip Gathering&rdquo\;</span></span></span></h4>\n\n<p style="text-align:center">Please join us to celebrate&nbsp\;the holidays with our first ever event with the Miami Beach Chamber of Commerce. Shop with MBCC member vendors. Sip wine and network with women business owners and professionals. Enjoy art exhibits from local artists along with lite bites\, music\, special live entertainment and much more!</p>\n\n<p>&nbsp\;</p>\n\n<p style="text-align:center">Event to be held at the following time\, date\, and location:</p>\n\n<p style="text-align:center">Wednesday\,&nbsp\;December 18\, 2019 from&nbsp\;11:00 AM&nbsp\;to&nbsp\;2:00 PM (EST)</p>\n\n<p style="text-align:center">Miami Beach Woman&rsquo\;s Club<br />\n2401 Pine Tree Dr<br />\nMiami Beach\, FL 33140</p>\n\n<p style="text-align:center"><a href="https://www.google.com/maps/place/Miami+Beach+Woman's+Club/@25.8008368\,-80.131451\,17z/data=!4m12!1m6!3m5!1s0x88d9b3628a595a6f:0xce2581db38535301!2sMiami+Beach+Woman's+Club!8m2!3d25.8008368!4d-80.129257!3m4!1s0x88d9b3628a595a6f:0xce2581db38535301!8m2!3d25.8008368!4d-80.129257" rel="noopener noreferrer" style="padding: 0px\; margin: 0px\; color: rgb(0\, 0\, 0)\; text-decoration: none\; outline: none\;" target="_blank">View Map</a></p>\n\n<p style="text-align:center"><a href="https://www.eventbrite.com/e/the-attract-essentials-webstore-ribbon-cutting-party-tickets-510736627?ref=enivtefor001&amp\;utm_source=eb_email&amp\;utm_medium=email&amp\;utm_campaign=inviteformalv2&amp\;utm_term=eventpage" style="padding: 0px\; margin: 0px\; color: rgb(0\, 0\, 0)\; text-decoration: none\; outline: none\;"><strong>Go To The&nbsp\;Event&nbsp\;Page on The Miami Beach Chamber of Commerce Website</strong></a></p>\n\n<p style="text-align:center">&nbsp\;</p>\n</div>\n\n<table border="0" cellpadding="0" cellspacing="0" class="aligncenter" style="background-color:transparent\; border-collapse:collapse\; border-spacing:0px\; caret-color:rgb(111\, 111\, 111)\; color:rgb(111\, 111\, 111)\; display:block\; font-family:open sans\; margin:0px auto 20px\; max-width:100%\; padding:0px\; width:537.9779052734375px">\n	<tbody>\n		<tr>\n			<td style="vertical-align:top">\n			<p style="text-align:center">Rodd and I are very excited to introduce our business to the world and we want to thank you\, our friends\, family and supporters\, for being such a big part of it.</p>\n\n			<p style="text-align:center">Please join us at this special occasion and assist supporting this and other majority owned women&rsquo\;s small business\, now in Miami.</p>\n\n			<p>&nbsp\;</p>\n\n			<p style="text-align:center">FEES/ADMISSION</p>\n\n			<p style="text-align:center">Your $10 Donation Admission supports women in business and goes&nbsp\;towards the&nbsp\;<em>Women&rsquo\;s Business Council Scholarship Fund</em><br />\n			Non-Members: Please RSVP &amp\; Make your payment with&nbsp\;<strong><a href="mailto:Subrena@miamibeachchamber.com" style="padding: 0px\; margin: 0px\; color: rgb(0\, 0\, 0)\; text-decoration: none\; outline: none\;">Subrena@miamibeachchamber.com</a></strong>&nbsp\;<strong>305-674-1300 Ext. 3300.</strong></p>\n\n			<p style="text-align:center">We can&rsquo\;t wait to see you!</p>\n			</td>\n		</tr>\n	</tbody>\n</table>\n
LOCATION:Miami Beach Woman's Club 2401 Pine Tree Dr Miami Beach\, FL 33140
UID:e.166.47956
SEQUENCE:3
DTSTAMP:20260425T222059Z
URL:https://business.miamibeachchamber.com/events/details/you-re-invited-to-shop-our-products-at-the-mbcc-women-s-business-council-s-holiday-shop-sip-gathering-47956
END:VEVENT

END:VCALENDAR
