BEGIN:VCALENDAR
VERSION:2.0
PRODID:-//ChamberMaster//Event Calendar 2.0//EN
METHOD:PUBLISH
X-PUBLISHED-TTL:P3D
REFRESH-INTERVAL:P3D
CALSCALE:GREGORIAN
BEGIN:VEVENT
DTSTART:20200118T210000Z
DTEND:20200118T220000Z
X-MICROSOFT-CDO-ALLDAYEVENT:FALSE
SUMMARY:Yoga by Synergy
DESCRIPTION:Join Synergy Yoga for this free class on the sand! They are the oldest and first Yoga Studio in Miami Beach\, having served the community for over 20 years with a variety of traditional Yoga styles\, teachings and healing arts.\n\n\n\n\n\nDisclaimer: You should consult your physician or other health care professional before starting this or any other fitness program
X-ALT-DESC;FMTTYPE=text/html:<span style="background-color:rgb(255\, 255\, 255)\; color:rgb(29\, 33\, 41)\; font-family:helvetica\,arial\,sans-serif\; font-size:14px">Join Synergy Yoga for this free class on the sand! They are the oldest and first Yoga Studio in Miami Beach\, having served the community for over 20 years with a variety of traditional Yoga styles\, teachings and healing arts.</span><br />\n<br />\n<br />\n<span style="background-color:rgb(255\, 255\, 255)\; color:rgb(29\, 33\, 41)\; font-family:helvetica\,arial\,sans-serif\; font-size:14px">Disclaimer: You should consult your physician or other health care professional before starting this or any other fitness program</span>
LOCATION:873 Ocean Drive
UID:e.166.48011
SEQUENCE:3
DTSTAMP:20260423T062017Z
URL:https://business.miamibeachchamber.com/events/details/yoga-by-synergy-48011
END:VEVENT

END:VCALENDAR
