BEGIN:VCALENDAR
VERSION:2.0
PRODID:-//ChamberMaster//Event Calendar 2.0//EN
METHOD:PUBLISH
X-PUBLISHED-TTL:P3D
REFRESH-INTERVAL:P3D
CALSCALE:GREGORIAN
BEGIN:VEVENT
DTSTART:20190913T130000Z
DTEND:20190913T150000Z
X-MICROSOFT-CDO-ALLDAYEVENT:FALSE
SUMMARY:Workshop Series: The ONE Thing with Jose Fernandez
DESCRIPTION:Workshop Series - The ONE Thing\n\n\n\nJoin us for a workshop based on the best selling book by Gary W. Keller\, The ONE Thing: The Surprisingly Simple Truth Behind Extraordinary Results.\n\nJose Fernandez\, business leader extraordinaire\, will teach you about the Six Lies of Success: the lies that mislead and derail us from achieving extraordinary results\n\n\n\nLie 1. Everything Matters Equally\n\nLie 2. Multitasking\n\nLie 3. A disciplined Life\n\nLie 4. Willpower is Always on Will-Call.\n\nLie 5. A Balanced Life\n\nLie 6. Big is Bad\n\n\nAbout Jose Fernandez\n\n\n\nJose Fernandez is a trainer on The ONE Thing within Keller Williams Realty.  Jose is a leader and lives his life and runs his business based on the principles of The ONE Thing.  In 2016 Jose was awarded the Humanitarian of the Year by the Florida Association of Realtors.  He was the first Certified Senior Housing Professional in Miami-Dade County.  Jose is an active member of BNI\, a graduate of Leadership Miami\, Director of Missions at Iglesia Auditorio de la Fe in South Florida\, President of "El Coqui Spot Inc" a food truck park to open  in Puerto Rico this Fall\, a realtor and business investor and a graduate of FIU with a master's degree in Hospitality Management.\n\n\n\n \n\n\nAbout the book\n\n\n\nThe ONE Thing: The Surprisingly Simple Truth Behind Extraordinary Results is a non-fiction\, self-help book written by authors and real estate entrepreneurs\, Gary W. Keller and Jay Papasan.  The book discusses the value of simplifying one's workload by focusing on the one most important task in any given project. The book has appeared on the best seller lists of The New York Times\,[7] The Wall Street Journal\,[8] USA Today\, and Amazon.com.  The book was first published by Bard Press on April 1\, 2013.
X-ALT-DESC;FMTTYPE=text/html:<strong>Workshop Series - The ONE Thing</strong><br />\n<br />\nJoin us for a workshop based on the best selling book by Gary W. Keller\, The ONE Thing: The Surprisingly Simple Truth Behind Extraordinary Results.<br />\nJose Fernandez\, business leader extraordinaire\, will teach you about the Six Lies of Success: the lies that mislead and derail us from achieving extraordinary results<br />\n<br />\nLie 1. Everything Matters Equally<br />\nLie 2. Multitasking<br />\nLie 3. A disciplined Life<br />\nLie 4. Willpower is Always on Will-Call.<br />\nLie 5. A Balanced Life<br />\nLie 6. Big is Bad\n<hr /><br />\n<u><strong>About Jose Fernandez</strong></u><br />\n<br />\nJose Fernandez is a&nbsp\;trainer on The ONE Thing within Keller Williams Realty.&nbsp\; Jose is a leader and lives his life and runs his business based on the principles of The ONE Thing.&nbsp\; In 2016 Jose was awarded the Humanitarian of the Year by the Florida Association of Realtors.&nbsp\; He was the first Certified Senior Housing Professional in Miami-Dade County.&nbsp\; Jose is an active member of BNI\, a graduate of Leadership Miami\, Director of Missions at Iglesia Auditorio de la Fe in South Florida\, President of &ldquo\;El Coqui Spot Inc&rdquo\; a food truck park to open&nbsp\; in Puerto Rico this Fall\, a realtor and business investor and a graduate of FIU with a master&rsquo\;s degree in Hospitality Management.<br />\n<br />\n&nbsp\;\n<hr /><br />\n<u><strong>About the book</strong></u><br />\n<br />\n<strong>The ONE Thing: The Surprisingly Simple Truth Behind Extraordinary Results</strong> is a <a href="https://en.wikipedia.org/wiki/Non-fiction" title="Non-fiction">non-fiction</a>\, <a href="https://en.wikipedia.org/wiki/Self-help" title="Self-help">self-help</a> book written by <a href="https://en.wikipedia.org/wiki/Authors" title="Authors">authors</a> and <a href="https://en.wikipedia.org/wiki/Real_estate_entrepreneur" title="Real estate entrepreneur">real estate entrepreneurs</a>\, <a href="https://en.wikipedia.org/wiki/Gary_W._Keller" title="Gary W. Keller">Gary W. Keller</a> and <a href="https://en.wikipedia.org/wiki/Jay_Papasan" title="Jay Papasan">Jay Papasan</a>.&nbsp\;&nbsp\;The book discusses the value of simplifying one&#39\;s workload by focusing on the one most important task in any given project. The book has appeared on the best seller lists of <a href="https://en.wikipedia.org/wiki/The_New_York_Times" title="The New York Times">The New York Times</a>\,<a href="https://en.wikipedia.org/wiki/The_ONE_Thing_(book)#cite_note-NYT-7">[7]</a> <a href="https://en.wikipedia.org/wiki/The_Wall_Street_Journal" title="The Wall Street Journal">The Wall Street Journal</a>\,<a href="https://en.wikipedia.org/wiki/The_ONE_Thing_(book)#cite_note-WSJ-8">[8]</a> <a href="https://en.wikipedia.org/wiki/USA_Today" title="USA Today">USA Today</a>\, and <a href="https://en.wikipedia.org/wiki/Amazon.com" title="Amazon.com">Amazon.com</a>.&nbsp\;&nbsp\;The book was first published by Bard Press on April 1\, 2013.
LOCATION:Miami Beach Chamber of Commerce 1920 Meridian Avenue\, 3rd Floor Miami Beach FL 33139
UID:e.166.43295
SEQUENCE:3
DTSTAMP:20260423T085310Z
URL:https://business.miamibeachchamber.com/events/details/workshop-series-the-one-thing-with-jose-fernandez-43295
END:VEVENT

END:VCALENDAR
