BEGIN:VCALENDAR
VERSION:2.0
PRODID:-//ChamberMaster//Event Calendar 2.0//EN
METHOD:PUBLISH
X-PUBLISHED-TTL:P3D
REFRESH-INTERVAL:P3D
CALSCALE:GREGORIAN
BEGIN:VEVENT
DTSTART:20191025T160000Z
DTEND:20191025T170000Z
X-MICROSOFT-CDO-ALLDAYEVENT:FALSE
SUMMARY:Workshop Series: LINKEDIN (Ideal Solutions)
DESCRIPTION:Join us for our SOCIAL MEDIA WORKSHOP SERIES\n\n\n\nTOPIC:\n\n\n\nHow to Maximize Your LinkedIn Presence And Make Meaningful Connections\n\n\n\nAbout Leila Chang\, Founder\nLeila Chang started Ideal Lifestyle Concierge after living a busy corporate life as the CEO of several South Florida companies. She recognized the need for personal assistance in her day-to-day life and wanted to make it a available for everyone. In 2006\, Ideal Lifestyle Concierge became a reality. In 2013 the company was rebranded as Ideal Solutions\, now catering to entrepreneurs\, solopreneurs and businesses on a fully virtual basis.\n\nMs. Chang is also the current CEO of Florida Dental Benefits. The firm is focused on offering accessibility to quality affordable dental care throughout Florida with a high touch approach to customer service.\n\nPrior to her current roles\, she served as the CEO of Hands on Miami\, a non-profit volunteer organization in Miami. With its Flexible Volunteering Model\, HandsOn Miami inspires\, equips and mobilizes people to take action to positively effect change in Miami-Dade County.\n\nAdditionally\, she was a founder\, investor and CEO of Atlantic Dental Benefits\, a managed dental care company in Florida. During her tenure\, Atlantic Dental has returned a significant profit to investors and has grown the organization to more than 700\,000 members and 2\,000 dentists throughout Florida.\n\nMs. Chang is a graduate of Florida International University in Miami\, Florida\, with a Bachelor of Science Degree in Computer Science.
X-ALT-DESC;FMTTYPE=text/html:Join us for our SOCIAL MEDIA WORKSHOP SERIES<br />\n<br />\n<u><strong>TOPIC:</strong></u><br />\n<br />\n<strong><span style="font-size:20px\;">How to Maximize Your LinkedIn Presence And Make Meaningful Connections</span></strong><br />\n<br />\n<u><strong>About Leila Chang\, <em>Founder</em></strong></u>\n<p open="">Leila Chang started Ideal Lifestyle Concierge after living a busy corporate life as the CEO of several South Florida companies. She recognized the need for personal assistance in her day-to-day life and wanted to make it a available for everyone. In 2006\, Ideal Lifestyle Concierge became a reality. In 2013 the company was rebranded as Ideal Solutions\, now catering to entrepreneurs\, solopreneurs and businesses on a fully virtual basis.</p>\n\n<p open="">Ms. Chang is also the current CEO of Florida Dental Benefits. The firm is focused on offering accessibility to quality affordable dental care throughout Florida with a high touch approach to customer service.</p>\n\n<p open="">Prior to her current roles\, she served as the CEO of Hands on Miami\, a non-profit volunteer organization in Miami. With its Flexible Volunteering Model\, HandsOn Miami inspires\, equips and mobilizes people to take action to positively effect change in Miami-Dade County.</p>\n\n<p open="">Additionally\, she was a founder\, investor and CEO of Atlantic Dental Benefits\, a managed dental care company in Florida. During her tenure\, Atlantic Dental has returned a significant profit to investors and has grown the organization to more than 700\,000 members and 2\,000 dentists throughout Florida.</p>\n\n<p open="">Ms. Chang is a graduate of Florida International University in Miami\, Florida\, with a Bachelor of Science Degree in Computer Science.</p>\n
LOCATION:Miami Beach Chamber Boardroom 1920 Meridian Avenue\, 3rd Floor Miami Beach\, FL 33139
UID:e.166.43338
SEQUENCE:3
DTSTAMP:20260423T102343Z
URL:https://business.miamibeachchamber.com/events/details/workshop-series-linkedin-ideal-solutions-43338
END:VEVENT

END:VCALENDAR
