BEGIN:VCALENDAR
VERSION:2.0
PRODID:-//ChamberMaster//Event Calendar 2.0//EN
METHOD:PUBLISH
X-PUBLISHED-TTL:P3D
REFRESH-INTERVAL:P3D
CALSCALE:GREGORIAN
BEGIN:VEVENT
DTSTART:20200118T150000Z
DTEND:20200118T170000Z
X-MICROSOFT-CDO-ALLDAYEVENT:FALSE
SUMMARY:Women's Suffrage Centennial Parade
DESCRIPTION:March With Us!\n\n\n\nThe chamber has been honoring women since 1921.\n\n\n\nJoin the Chamber's Women's Business Council as we march in honor of the women's rights movement.\n\n\n\nMeeting Time/Location:\n\n10:00 AM at the Art Deco Welcome Center\n\n1001 Ocean Drive\n\n\n\nPlease call or text DeAnne Connolly Graham (954-559-1758) to find the group on Saturday.
X-ALT-DESC;FMTTYPE=text/html:<div style="text-align: center\;"><span style="font-size:22px\;"><u><strong>March With Us!</strong></u></span><br />\n<br />\nThe chamber has been honoring women since 1921.<br />\n<br />\nJoin the Chamber&#39\;s Women&#39\;s Business Council as we march in honor of the women&#39\;s rights movement.<br />\n<br />\n<u><strong>Meeting Time/Location:</strong></u><br />\n10:00 AM at the Art Deco Welcome Center<br />\n1001 Ocean Drive<br />\n<br />\nPlease call or text DeAnne Connolly Graham (954-559-1758)&nbsp\;to find the group on Saturday.</div>\n
LOCATION:Art Deco Welcome Center 1001 Ocean Drive\, Miami Beach
UID:e.166.48024
SEQUENCE:3
DTSTAMP:20260423T062018Z
URL:https://business.miamibeachchamber.com/events/details/women-s-suffrage-centennial-parade-48024
END:VEVENT

END:VCALENDAR
