BEGIN:VCALENDAR
VERSION:2.0
PRODID:-//ChamberMaster//Event Calendar 2.0//EN
METHOD:PUBLISH
X-PUBLISHED-TTL:P3D
REFRESH-INTERVAL:P3D
CALSCALE:GREGORIAN
BEGIN:VEVENT
DTSTART:20170831T220000Z
DTEND:20170901T000000Z
X-MICROSOFT-CDO-ALLDAYEVENT:FALSE
SUMMARY:Women's Equality Day with MB Women's Business Roundtable
DESCRIPTION:The Miami Beach Chamber's Women's Business Roundtable & Council cordially invites you to join the celebration of Women's Equality Day.   \n\n \nHelp us support the future leaders of Miami Beach!\n\n\n\n\n\nJoin other local Women's Groups:\n\n Miami Beach Chamber Women's Business Council\, Women's Business Roundtable\n\nCity of Miami Beach Commission for Women\n\nMiami Dade Commission for Women\n\nSoBe POWER WOMEN\n\nMiami Dade Chamber Women's Business Council\n\nMiami Dade Women's Chamber\n\nGwen S. Cherry Black Women Lawyers Association\n\nThe Organization of Women in International Trade\n\n&\n\nProfessionally Fabulous\n\n\n\n---\n\n\n\nWomen's Equality Day commemorates August 26\, 1920 when a woman's right to vote officially became part of the US constitution. This day marks a turning point in the history of the struggle for women's equal rights.\n\n \n\nThis networking fundraiser will be held at Drinkhouse Fire & Ice from 6 to 8 PM.  Proceeds will be used to fund a scholarship for a young woman graduating from Miami Beach Senior High in 2018.  The scholarship will be administered through the Miami Beach Chamber's Education Foundation. \n\n \n\nThere will be opportunity for businesses to have vendor tables to sell or showcase products and/or services at the event.  The cost to attend is $15/pp and includes a complimentary drink and light bites.\n\n\n\nFor additional information\, contact Wendy Schapira at the Chamber at 305 695 6829 or wendyu@miamibeachchamber.com
X-ALT-DESC;FMTTYPE=text/html:<div style="text-align: center\;">\n<div style="text-align: center\;"><br />\n<span style="font-size:18px\;"><span style="font-family:arial\;">The Miami Beach Chamber&#39\;s Women&#39\;s Business Roundtable &amp\; Council&nbsp\;cordially invites you to join the celebration of Women&#39\;s Equality Day. &nbsp\; </span></span><br />\n&nbsp\;</div>\n<span style="font-size:18px\;"><span style="font-family:arial\;">Help us support the future leaders of Miami Beach!<br />\n<br />\n<br />\n<strong><span style="font-size:20px\;">Join other local Women&#39\;s Groups:</span></strong></span></span></div>\n\n<div style="text-align: center\;"><span style="font-size:18px\;"><span style="font-family:arial\;">&nbsp\;Miami Beach Chamber Women&#39\;s Business Council\, Women&#39\;s Business Roundtable</span></span></div>\n\n<div style="text-align: center\;"><span style="font-size:18px\;"><span style="font-family:arial\;">City of Miami Beach Commission for Women</span></span></div>\n\n<div style="text-align: center\;"><span style="font-size:18px\;"><span style="font-family:arial\;">Miami Dade Commission for Women</span></span></div>\n\n<div style="text-align: center\;"><span style="font-size:18px\;"><span style="font-family:arial\;">SoBe POWER WOMEN</span></span></div>\n\n<div style="text-align: center\;"><span style="font-size:18px\;"><span style="font-family:arial\;">Miami Dade Chamber Women&#39\;s Business Council</span></span></div>\n\n<div style="text-align: center\;"><span style="font-size:18px\;"><span style="font-family:arial\;">Miami Dade Women&#39\;s Chamber</span></span></div>\n\n<div style="text-align: center\;"><span style="font-size:18px\;"><span style="font-family: arial\;">Gwen S. Cherry Black Women Lawyers Association<br />\nThe Organization of Women in International Trade</span></span></div>\n\n<div style="text-align: center\;"><span style="font-size:18px\;"><span style="font-family: arial\;">&amp\;<br />\nProfessionally Fabulous<br />\n<br />\n---</span></span><br />\n<br />\n<span style="font-size:16px\;"><strong>Women&#39\;s Equality Day</strong>&nbsp\;commemorates August 26\, 1920 when a woman&#39\;s right to vote officially became part of the US constitution. This day marks a turning point in the history of the struggle for women&#39\;s equal rights.<br />\n&nbsp\;<br />\nThis networking fundraiser&nbsp\;will be held at Drinkhouse Fire &amp\; Ice&nbsp\;from 6 to 8 PM. &nbsp\;Proceeds will be used to fund a scholarship for a young woman graduating from Miami Beach Senior High in 2018. &nbsp\;The scholarship will be administered through the Miami Beach Chamber&#39\;s Education Foundation.&nbsp\;<br />\n&nbsp\;<br />\nThere will be opportunity for businesses to have vendor tables to sell or showcase products and/or services at the event. &nbsp\;The cost to attend is $15/pp and includes a complimentary drink and light&nbsp\;bites.<br />\n<br />\n<strong>For additional information\, contact Wendy Schapira at the Chamber at&nbsp\;<a href="tel:305%20695%206829">305 695 6829</a>&nbsp\;or <a href="mailto:wendyu@miamibeachchamber.com">wendyu@miamibeachchamber.com</a></strong></span><br />\n&nbsp\;</div>\n\n<div style="text-align: center\;">&nbsp\;</div>\n
LOCATION:Drinkhouse Fire & Ice Lounge 1672 Collins Avenue Miami Beach FL 33139
UID:e.166.26452
SEQUENCE:3
DTSTAMP:20260421T073953Z
URL:https://business.miamibeachchamber.com/events/details/women-s-equality-day-with-mb-women-s-business-roundtable-26452
END:VEVENT

END:VCALENDAR
