BEGIN:VCALENDAR
VERSION:2.0
PRODID:-//ChamberMaster//Event Calendar 2.0//EN
METHOD:PUBLISH
X-PUBLISHED-TTL:P3D
REFRESH-INTERVAL:P3D
CALSCALE:GREGORIAN
BEGIN:VEVENT
DTSTART:20181209T190000Z
DTEND:20181209T210000Z
X-MICROSOFT-CDO-ALLDAYEVENT:FALSE
SUMMARY:Women's Business Council Event at Painting with a Twist
DESCRIPTION:The Women's Business Council of the Miami Beach Chamber of Commerce will celebrate Hanukkah and Christmas\, the other winter holidays\, David's Birthday and the 4th Anniversary of Painting with a Twist with a fundraiser and painting party. So join us and enjoy terrific networking\, artistic expression and the opportunity to raise some money for the Miami Beach Chamber's Education Foundation. \n\n.
X-ALT-DESC;FMTTYPE=text/html:The Women&#39\;s Business Council of the Miami Beach Chamber of Commerce will celebrate Hanukkah and Christmas\, the other winter holidays\, David&#39\;s Birthday and the 4th Anniversary of Painting with a Twist with a fundraiser and painting party. So&nbsp\;<span style="background-color:rgba(255\, 255\, 255\, 0)\;">join us and enjoy terrific networking\, artistic expression and the opportunity to raise some money for the Miami Beach Chamber&rsquo\;s Education Foundation.&nbsp\;</span><br />\n.&nbsp\;
LOCATION:Painting With A Twist 924 71st Street Miami Beach\, FL 33141
UID:e.166.39473
SEQUENCE:3
DTSTAMP:20260421T224419Z
URL:https://business.miamibeachchamber.com/events/details/women-s-business-council-event-at-painting-with-a-twist-39473
END:VEVENT

END:VCALENDAR
