BEGIN:VCALENDAR
VERSION:2.0
PRODID:-//ChamberMaster//Event Calendar 2.0//EN
METHOD:PUBLISH
X-PUBLISHED-TTL:P3D
REFRESH-INTERVAL:P3D
CALSCALE:GREGORIAN
BEGIN:VEVENT
DTSTART:20181120T170000Z
DTEND:20181120T190000Z
X-MICROSOFT-CDO-ALLDAYEVENT:FALSE
SUMMARY:Women's Business Council at Carillon Miami Wellness Resort - SOLD OUT
DESCRIPTION:Monthly meeting of the Miami Beach Chamber of Commerce Women?s Business Council\n\n\n\nMeeting conducted under the leadership of Deanne Connolly Graham\, Council Chair.\n\n\n\nTHIS MEETING IS BEING HOSTED at and by: Carillon Wellness Resort  & Strand Restaurant\n\n6801 Collins Avenue Miami Beach FL 33141
X-ALT-DESC;FMTTYPE=text/html:<span style="font-size:14px\;"><span style="font-family:arial\;">Monthly meeting of the Miami Beach Chamber of Commerce Women?s Business Council<br />\n<br />\nMeeting conducted under the leadership of Deanne Connolly Graham\, Council Chair.</span></span><br />\n<br />\n<span style="font-size:20px\;">THIS MEETING IS BEING HOSTED at and by: Carillon Wellness Resort&nbsp\; &amp\; Strand Restaurant<br />\n6801 Collins Avenue Miami Beach FL 33141</span>\n<div><span style="font-size: small\;"><span _fck_bookmark="1" style="display: none\;">&nbsp\;</span></span></div>\n
LOCATION:Carillon Miami Wellness Resort 6801 Collins Avenue Miami Beach\, FL 33141 (305) 514-7000 . (866) 800-3858 NOTE SPECIAL LOCATION - ONLY THIS DATE!
UID:e.166.38233
SEQUENCE:3
DTSTAMP:20260422T002005Z
URL:https://business.miamibeachchamber.com/events/details/women-s-business-council-at-carillon-miami-wellness-resort-sold-out-38233
END:VEVENT

END:VCALENDAR
