BEGIN:VCALENDAR
VERSION:2.0
PRODID:-//ChamberMaster//Event Calendar 2.0//EN
METHOD:PUBLISH
X-PUBLISHED-TTL:P3D
REFRESH-INTERVAL:P3D
CALSCALE:GREGORIAN
BEGIN:VEVENT
DTSTART:20181121T170000Z
DTEND:20181121T190000Z
X-MICROSOFT-CDO-ALLDAYEVENT:FALSE
SUMMARY:Women's Business Council
DESCRIPTION:Monthly meeting of the Miami Beach Chamber of Commerce Women?s Business Council\n\n\n\nMeeting conducted under the leadership of Deanne Connolly Graham\, Council Chair.
X-ALT-DESC;FMTTYPE=text/html:<span style="font-size:14px\;"><span style="font-family:arial\;">Monthly meeting of the Miami Beach Chamber of Commerce Women?s Business Council<br />\n<br />\nMeeting conducted under the leadership of Deanne Connolly Graham\, Council Chair.</span></span><br />\n<br />\n&nbsp\;\n<div><span style="font-size: small\;"><span _fck_bookmark="1" style="display: none\;">&nbsp\;</span></span></div>\n
LOCATION:Miami Beach Chamber of Commerce 1920 Meridian Avenue\, Third Floor Miami Beach\, FL
UID:e.166.39455
SEQUENCE:3
DTSTAMP:20260422T001722Z
URL:https://business.miamibeachchamber.com/events/details/women-s-business-council-39455
END:VEVENT

END:VCALENDAR
