BEGIN:VCALENDAR
VERSION:2.0
PRODID:-//ChamberMaster//Event Calendar 2.0//EN
METHOD:PUBLISH
X-PUBLISHED-TTL:P3D
REFRESH-INTERVAL:P3D
CALSCALE:GREGORIAN
BEGIN:VEVENT
DTSTART:20181218T170000Z
DTEND:20181218T190000Z
X-MICROSOFT-CDO-ALLDAYEVENT:FALSE
SUMMARY:Women's Business Council
DESCRIPTION:Monthly meeting of the Miami Beach Chamber of Commerce Women's Business Council\n\n\n\nMeeting conducted under the leadership of Deanne Connolly Graham\, Council Chair.\n\n\n\nThis month the meeting and lunch will be sponsored by Hector Garcia\, RKTR Agency\, who will give us Instagram Training\n\n	Learn to affect the Instagram algorithm effectively by posting the correct way\n	Create an interactive Instagram bio that will get you clients and consumers\n	Learn to post effectively and learn how to get more views on your Instagram stories
X-ALT-DESC;FMTTYPE=text/html:<span style="font-size:14px\;"><span style="font-family:arial\;">Monthly meeting of the Miami Beach Chamber of Commerce Women&#39\;s Business Council<br />\n<br />\nMeeting conducted under the leadership of Deanne Connolly Graham\, Council Chair.</span></span><br />\n<br />\nThis month the meeting and lunch will be sponsored by Hector Garcia\, RKTR Agency\, who will give us Instagram Training\n<ol>\n	<li>Learn to affect the Instagram algorithm effectively by posting the correct way</li>\n	<li>Create an interactive Instagram bio that will get you clients and consumers</li>\n	<li>Learn to post effectively and learn how to get more views on your Instagram stories</li>\n</ol>\n&nbsp\;\n\n<div><span style="font-size: small\;"><span _fck_bookmark="1" style="display: none\;">&nbsp\;</span></span></div>\n
LOCATION:Miami Beach Chamber of Commerce 1920 Meridian Avenue\, Third Floor Miami Beach\, FL
UID:e.166.38234
SEQUENCE:3
DTSTAMP:20260421T224026Z
URL:https://business.miamibeachchamber.com/events/details/women-s-business-council-12-18-2018-38234
END:VEVENT

END:VCALENDAR
