BEGIN:VCALENDAR
VERSION:2.0
PRODID:-//ChamberMaster//Event Calendar 2.0//EN
METHOD:PUBLISH
X-PUBLISHED-TTL:P3D
REFRESH-INTERVAL:P3D
CALSCALE:GREGORIAN
BEGIN:VEVENT
DTSTART:20200107T160000Z
DTEND:20200107T180000Z
X-MICROSOFT-CDO-ALLDAYEVENT:FALSE
SUMMARY:Women's Business Council Meeting
DESCRIPTION:On behalf of Council Chair DeAnne Connolly Graham (Brightness\, LLC) and Vice Chair Tori Greene (One Table) please join us for our monthly Women's Business Council meeting every 1st Tuesday of every month from 11:00 AM  to 1:00 PM.\n\n\n\nJanuary 7\, 2020\n\nMuch appreciation to our Lunch Sponsor\n\nBrightness LLC\n\n \n\nAGENDA \n\n\n\nINTRODUCTIONS ? 30 seconds each\n\n \n\nReflections from Vice Chair Tori Greene\n\n \n\nPresentation: Miami Beach Officer Traci Sierra: Policing The Prom - a campaign to assist 20 young women attend the high school prom next spring at Miami Beach High.\n\n \n\nDiscussion: Women?s Suffrage Exhibit & March on Jan 18th @ Art Deco Welcome Center\n\n\n\nLunch Sponsor Presentation: Brightness LLC\n\n \n\nCommittee Updates:  \n\nEvents: Co-Chairs Cindi George & Monica Don:  \n\n \n\nAdvocacy/Government Affairs: Co-Chairs: Arathi Ramappa & Jody Jones\n\n \n\nMarketing:  Co-Chairs: Bianca Szklaruk &\n\n \n\n \n\nDiscussion: Chamber?s Centennial Celebration\, Unsung Heroines of Miami Beach\n\n \n\nWORKSHOP:  Advocacy/Government Affairs Committee\n\nIn this workshop\, you'll get\n\n	- A refresher on the Florida Legislative Process/Prime Interactive opportunities\n	- A Preview of Florida 2020 Legislative Session \n	- An update on Miami- Dade County Legislation 2020 Top Priorities\n	-An update on the City of Miami Beach?s legislation\n\n \n\nBusiness to Business Referrals Update\n\n \n\n Next Meeting: Tuesday\, Feb 4th\n\n \n\n\n \n\n\n\nWomen's Business Council Mission Statement\n\n \n\nThe mission of the Miami Beach Chamber?s Women?s Business Council is to promote women in business\, educate\, advocate\, empower\, support and mentor\, while fostering civic responsibility and building membership for the Chamber. Through these activities\, the Women?s Business Council and its members will create positive change for women and girls. \n\n\n\nFor more information regarding the Women's Business Council\, please contact SuBrena GrahamFoster at Subrena@miamibeachchamber.com or call (305) 674-1300.
X-ALT-DESC;FMTTYPE=text/html:<div>\n<div style="text-align: center\;"><span style="text-align: center\;">On behalf of Council Chair DeAnne Connolly Graham (Brightness\, LLC) and Vice Chair Tori Greene (One Table) please join us for our monthly Women's Business Council&nbsp\;meeting every&nbsp\;1st Tuesday of every month&nbsp\;from 11:00 AM&nbsp\;&nbsp\;to 1:00 PM.</span><br>\n<br>\n<strong><span style="font-family:arial\,sans-serif\;"><span style="font-size:10.0pt\;">January 7\, 2020</span></span></strong><br>\n<strong><span style="font-family:arial\,sans-serif\;"><span style="font-size:10.0pt\;">Much appreciation to our Lunch Sponsor</span></span></strong><br>\n<strong><em><span style="background:white\;"><span style="font-family:arial\,sans-serif\;"><span style="font-size:10.0pt\;">Brightness</span></span></span></em></strong><span style="background:white\;"><span style="font-family:arial\,sans-serif\;"><span style="font-size:10.0pt\;">&nbsp\;<strong><em>LLC</em></strong></span></span></span><br>\n&nbsp\;<br>\n<strong><span style="color:black\;"><span style="font-family:arial\,sans-serif\;"><span style="font-size:10.0pt\;">AGENDA</span></span></span></strong>&nbsp\;<br>\n<br>\n<strong><u><span style="font-family:arial\,sans-serif\;"><span style="font-size:10.0pt\;">INTRODUCTIONS ? 30 seconds each</span></span></u></strong><br>\n&nbsp\;<br>\n<strong><span style="font-family:arial\,sans-serif\;"><span style="font-size:10.0pt\;">Reflections from Vice Chair Tori Greene</span></span></strong><br>\n&nbsp\;<br>\n<u><span style="color:black\;"><span style="font-family:arial\,sans-serif\;"><span style="font-size:10.0pt\;">Presentation</span></span></span></u><span style="color:black\;"><span style="font-family:arial\,sans-serif\;"><span style="font-size:10.0pt\;">: Miami Beach&nbsp\;Officer Traci Sierra: Policing The Prom - a campaign to assist 20 young women attend the high school prom next spring at Miami Beach High.</span></span></span><br>\n&nbsp\;<br>\n<u><span style="font-family:arial\,sans-serif\;"><span style="font-size:10.0pt\;">Discussion</span></span></u><span style="font-family:arial\,sans-serif\;"><span style="font-size:10.0pt\;">: Women?s Suffrage Exhibit &amp\; March on Jan 18th @ Art Deco Welcome Center<br>\n<br>\n<u>Lunch Sponsor Presentation</u>: Brightness LLC</span></span><br>\n&nbsp\;<br>\n<strong><u><span style="font-family:arial\,sans-serif\;"><span style="font-size:10.0pt\;">Committee Updates:&nbsp\; </span></span></u></strong><br>\n<strong><u><span style="background:white\;"><span style="color:#222222\;"><span style="font-family:arial\,sans-serif\;"><span style="font-size:10.0pt\;">Events:&nbsp\;</span></span></span></span></u></strong><strong><span style="background:white\;"><span style="color:#222222\;"><span style="font-family:arial\,sans-serif\;"><span style="font-size:10.0pt\;">Co-Chairs Cindi George &amp\; Monica Don</span></span></span></span></strong><span style="background:white\;"><span style="color:#222222\;"><span style="font-family:arial\,sans-serif\;"><span style="font-size:10.0pt\;">: &nbsp\;</span></span></span></span><br>\n&nbsp\;<br>\n<strong><u><span style="color:#222222\;"><span style="font-family:arial\,sans-serif\;"><span style="font-size:10.0pt\;">Advocacy/Government Affairs:&nbsp\;</span></span></span></u></strong><strong><span style="color:#222222\;"><span style="font-family:arial\,sans-serif\;"><span style="font-size:10.0pt\;">Co-Chairs: Arathi Ramappa &amp\; Jody Jones</span></span></span></strong><br>\n&nbsp\;<br>\n<strong><u><span style="color:#222222\;"><span style="font-family:arial\,sans-serif\;"><span style="font-size:10.0pt\;">Marketing: &nbsp\;</span></span></span></u></strong><strong><span style="color:#222222\;"><span style="font-family:arial\,sans-serif\;"><span style="font-size:10.0pt\;">Co-Chairs: Bianca Szklaruk &amp\;</span></span></span></strong><br>\n&nbsp\;<br>\n&nbsp\;<br>\n<strong><u><span style="color:#222222\;"><span style="font-family:arial\,sans-serif\;"><span style="font-size:10.0pt\;">Discussion</span></span></span></u></strong>: <strong><span style="color:#222222\;"><span style="font-family:arial\,sans-serif\;"><span style="font-size:10.0pt\;">Chamber?s Centennial Celebration</span></span></span></strong><span style="color:#222222\;"><span style="font-family:arial\,sans-serif\;"><span style="font-size:10.0pt\;">\, Unsung Heroines of Miami Beach</span></span></span><br>\n&nbsp\;<br>\n<strong><u><span style="color:#222222\;"><span style="font-family:arial\,sans-serif\;"><span style="font-size:10.0pt\;">WORKSHOP</span></span></span></u></strong>: <span style="color:#222222\;"><span style="font-family:arial\,sans-serif\;"><span style="font-size:10.0pt\;">&nbsp\;Advocacy/Government Affairs Committee</span></span></span><br>\n<strong><span style="color:#222A35\;"><span style="font-family:arial\,sans-serif\;"><span style="font-size:10.0pt\;">In this workshop\, you'll get</span></span></span></strong>\n<ul>\n	<li><span style="color:#222A35\;"><span style="font-family:arial\,sans-serif\;"><span style="font-size:10.0pt\;">- A refresher on the Florida Legislative Process/Prime Interactive opportunities</span></span></span></li>\n	<li><span style="color:#222A35\;"><span style="font-family:arial\,sans-serif\;"><span style="font-size:10.0pt\;">- A Preview of Florida 2020 Legislative Session </span></span></span></li>\n	<li><span style="color:#222A35\;"><span style="font-family:arial\,sans-serif\;"><span style="font-size:10.0pt\;">- An update on Miami- Dade County Legislation 2020&nbsp\;Top Priorities</span></span></span></li>\n	<li><span style="font-family:arial\,sans-serif\;"><span style="font-size:10.0pt\;">-An update on the City of Miami Beach?s legislation</span></span></li>\n</ul>\n&nbsp\;<br>\n<strong><u><span style="font-family:arial\,sans-serif\;"><span style="font-size:10.0pt\;">Business to Business Referrals Update</span></span></u></strong><br>\n&nbsp\;<br>\n<span style="font-family:arial\,sans-serif\;"><span style="font-size:10.0pt\;">&nbsp\;<strong>Next Meeting: Tuesday\, Feb 4th</strong></span></span><br>\n&nbsp\;</div>\n\n<hr>\n<div style="text-align: center\;">&nbsp\;</div>\n\n<div style="text-align: center\;"><br>\n<u><strong>Women's Business Council Mission Statement</strong></u><br>\n&nbsp\;</div>\n\n<div style="text-align: center\;"><span style="text-align: center\; background-image: initial\; background-position: initial\; background-size: initial\; background-repeat: initial\; background-attachment: initial\; background-origin: initial\; background-clip: initial\;">The mission of the Miami Beach Chamber?s Women?s Business Council is&nbsp\;</span><span style="text-align: center\; text-size-adjust: auto\;"><span style="background-color: rgba(255\, 255\, 255\, 0)\;">to promote women in business\, educate\, advocate\, empower\, support and mentor\, while fostering civic responsibility and building membership for the Chamber. Through these activities\, the Women?s Business Council and its members will create positive change for women and girls.&nbsp\;<br>\n<br>\nFor more information regarding the Women's Business Council\, please contact SuBrena GrahamFoster at Subrena@miamibeachchamber.com or call (305) 674-1300.</span></span></div>\n</div>\n\n<div style="text-align: center\;"><span style="font-size: small\;"><span _fck_bookmark="1" style="display: none\;">&nbsp\;</span></span></div>\n
LOCATION:Miami Beach Chamber of Commerce 1920 Meridian Avenue\, Third Floor Miami Beach\, FL 33139
UID:e.166.44481
SEQUENCE:3
DTSTAMP:20260423T075128Z
URL:https://business.miamibeachchamber.com/events/details/women-s-business-council-01-07-2020-44481
END:VEVENT

END:VCALENDAR
