BEGIN:VCALENDAR
VERSION:2.0
PRODID:-//ChamberMaster//Event Calendar 2.0//EN
METHOD:PUBLISH
X-PUBLISHED-TTL:P3D
REFRESH-INTERVAL:P3D
CALSCALE:GREGORIAN
BEGIN:VEVENT
DTSTART:20190903T140000Z
DTEND:20190903T210000Z
X-MICROSOFT-CDO-ALLDAYEVENT:FALSE
SUMMARY:Win with Sellers w/ Natascha Tello @ Keller Williams Miami Beach
DESCRIPTION:MAXIMIZING YOUR SELLER BUSINESS\n\nFrom the listing cycle to business planning\, this course is designed to accelerate your business.  If you've been working with sellers\, or thinking about how to become a listing leader in your market\, then Seller Mastery is for you.\n\n\n\nThis one day workshop will teach you: \n\n  The specific qualities and skills that top listing agents bring to their business\n\n  The models and best practices of top listing agents\n\n  How to refine your appointment setting\, CMA building\, listing consultation and seller objection handling skills\n\n  Practical tips and models for building your listing business
X-ALT-DESC;FMTTYPE=text/html:<strong><span style="color:#D72027"><span style="font-family:neutra display"><span style="font-size:22.0pt">MAXIMIZING YOUR SELLER BUSINESS</span></span></span></strong><br />\n<span style="font-family:neutra display thin"><span style="font-size:14.0pt">From the listing cycle to business planning\, this course is designed to accelerate your business.&nbsp\; If you&rsquo\;ve been working with sellers\, or thinking about how to become a listing leader in your market\, then Seller Mastery is for you.</span></span><br />\n<br />\n<strong><span style="color:#D72027"><span style="font-family:neutra display"><span style="font-size:14.0pt">This one day workshop will teach you:&nbsp\;</span></span></span></strong><br />\n<span style="color:black"><span style="font-size:10.0pt"><span style="font-family:symbol">&agrave\;</span></span></span>&nbsp\;<span style="font-family:neutra display thin"><span style="font-size:13.0pt">The specific qualities and skills that top listing agents bring to their business</span></span><br />\n<span style="color:black"><span style="font-size:10.0pt"><span style="font-family:symbol">&agrave\;</span></span></span>&nbsp\;<span style="font-family:neutra display thin"><span style="font-size:13.0pt">The models and best practices of top listing agents</span></span><br />\n<span style="color:black"><span style="font-size:10.0pt"><span style="font-family:symbol">&agrave\;</span></span></span>&nbsp\;<span style="font-family:neutra display thin"><span style="font-size:13.0pt">How to refine your appointment setting\, CMA building\, listing consultation and seller objection handling skills</span></span><br />\n<span style="color:black"><span style="font-size:10.0pt"><span style="font-family:symbol">&agrave\;</span></span></span>&nbsp\;<span style="font-family:neutra display thin"><span style="font-size:13.0pt">Practical tips and models for building your listing business</span></span><br />\n&nbsp\;<br />\n<br />\n<br />\n&nbsp\;<br />\n<br />\n&nbsp\;
LOCATION:Keller Williams Miami Beach 1680 Meridian Ave\, Suite 200 Miami Beach\, Fl 33139
UID:e.166.43346
SEQUENCE:3
DTSTAMP:20260423T085345Z
URL:https://business.miamibeachchamber.com/events/details/win-with-sellers-w-natascha-tello-keller-williams-miami-beach-43346
END:VEVENT

END:VCALENDAR
