BEGIN:VCALENDAR
VERSION:2.0
PRODID:-//ChamberMaster//Event Calendar 2.0//EN
METHOD:PUBLISH
X-PUBLISHED-TTL:P3D
REFRESH-INTERVAL:P3D
CALSCALE:GREGORIAN
BEGIN:VEVENT
DTSTART:20181103T123000Z
DTEND:20181103T213000Z
X-MICROSOFT-CDO-ALLDAYEVENT:FALSE
SUMMARY:WEBBUILDITCON 18 (use code CHAMBER for 10% Discount)
DESCRIPTION:WEBBUILDITCON 18\n\nLearn Essential Business Tools - With Hands On Training !\n\n\n\nWhat is WEBBUILDITCON ?\n\nWebBuildItCon is a premium conference tailored around teaching hands-on essential business tools to participants. The conference is stock full of workshops that are taught by industry experts. Learn the tools needed for your business in less time\, in order to focus on other aspects of your brand.\n\n\n\nAt WEBBUILDITCON you will :\n\n\n\nLEARN\n\nFind the workshops you are most interested in implementing in your business\n\n\n\nAPPLY\n\nApply concepts in a hands-on environment with the experts. Find new ways to use the tools that you already use or plan to implement in your business.\n\n\n\nNETWORK\n\nA great opportunity to network with fellow like- minded entrepreneurs with exposure to fresh ideas\, new doors opening and not to mention extending your support network.\n\n\n\nWORKSHOPS TAUGHT BY INDUSTRY EXPERTS!\n\n \n\n	Website Creation\n	Email Marketing\n	Social Media Marketing\n	Lead Generation\n	Project Management\n	Business Tools\n	Online Marketing\n	E-commerce\n\nWho Should attend WebBuildItCon?\n\n \n\n	Small business owners\n	Entrepreneurs\n	Industry Professionals\n	CEO's\n	Students\n	and YOU!\n\nINCLUDED:\n\nBreakfast \n\nHands On Training\n\nSwag & Freebees from vendors\n\nLunch\n\nPlus More!\n\n\n\nPrerequisite: Knowledge of Microsoft Word or any document editing tool\n\nRequirement: LAPTOP with WIFI functionality\n\nFor more Event info:\n\nContact : info@webbuilditcon.com / (800)-762-1286\n\nLimited Early Bird REGISTER TODAY!
X-ALT-DESC;FMTTYPE=text/html:<strong>WEBBUILDITCON 18</strong><br />\n<em>Learn Essential Business Tools - With Hands On Training</em>&nbsp\;!<br />\n<br />\n<strong>What is&nbsp\;</strong><strong>WEBBUILDITCON ?</strong><br />\nWebBuildItCon is a premium conference tailored around teaching hands-on essential business tools to participants. The conference is stock full of workshops that are taught by industry experts. Learn the tools needed for your business in less time\, in order to focus on other aspects of your brand.<br />\n<br />\n<strong>At&nbsp\;</strong><strong>WEBBUILDITCON you will :<br />\n<br />\nLEARN</strong><br />\nFind the workshops you are most interested in implementing in your business<br />\n<br />\n<strong>APPLY</strong><br />\nApply concepts in a hands-on environment with the experts. Find new ways to use the tools that you already use or plan to implement in your business.<br />\n<br />\n<strong>NETWORK</strong><br />\nA great opportunity to network with fellow like- minded entrepreneurs with exposure to fresh ideas\, new doors opening and not to mention extending your support network.<br />\n<br />\n<strong>WORKSHOPS TAUGHT BY INDUSTRY EXPERTS!</strong><br />\n&nbsp\;\n<ul>\n	<li><strong>Website Creation</strong></li>\n	<li><strong>Email Marketing</strong></li>\n	<li><strong>Social Media Marketing</strong></li>\n	<li><strong>Lead Generation</strong></li>\n	<li><strong>Project Management</strong></li>\n	<li><strong>Business Tools</strong></li>\n	<li><strong>Online Marketing</strong></li>\n	<li><strong>E-commerce</strong></li>\n</ul>\n<strong>Who Should attend WebBuildItCon</strong><strong>?</strong><br />\n&nbsp\;\n<ul>\n	<li><strong>Small business owners</strong></li>\n	<li><strong>Entrepreneurs</strong></li>\n	<li><strong>Industry Professionals</strong></li>\n	<li><strong>CEO&#39\;s</strong></li>\n	<li><strong>Students</strong></li>\n	<li><strong>and YOU!</strong></li>\n</ul>\n<strong>INCLUDED</strong>:<br />\n<strong>Breakfast&nbsp\;</strong><br />\n<strong>Hands On Training</strong><br />\n<strong>Swag &amp\; Freebees from vendors</strong><br />\n<strong>Lunch<br />\nPlus More!</strong><br />\n<br />\n<strong>Prerequisite: Knowledge of Microsoft Word or any document editing tool<br />\nRequirement: LAPTOP with WIFI functionality</strong><br />\n<strong>For more Event info:<br />\nContact : info@webbuilditcon.com / (800)-762-1286<br />\n<strong><strong>Limited Early Bird REGISTER TODAY!</strong></strong></strong><br />\n&nbsp\;
LOCATION:Atlantis University - 1011 Sunnybrook Rd\, Miami\, FL 33136
UID:e.166.37605
SEQUENCE:3
DTSTAMP:20260422T010250Z
URL:https://business.miamibeachchamber.com/events/details/webbuilditcon-18-37605
END:VEVENT

END:VCALENDAR
