BEGIN:VCALENDAR
VERSION:2.0
PRODID:-//ChamberMaster//Event Calendar 2.0//EN
METHOD:PUBLISH
X-PUBLISHED-TTL:P3D
REFRESH-INTERVAL:P3D
CALSCALE:GREGORIAN
BEGIN:VEVENT
DTSTART;VALUE=DATE:20200119
DTEND;VALUE=DATE:20200120
TRANSP:TRANSPARENT
X-MICROSOFT-CDO-ALLDAYEVENT:TRUE
SUMMARY:WARRIOR FLOW YOGA AT TIME OUT MARKET MIAMI!
DESCRIPTION:Get your Zen on with founder Adrian Molina\, who leads a free yoga class at Time Out Market Miami. Please bring your own mat and bend\, stretch and twist surrounded by some of the city's best chefs and restaurants. Catch a glimpse of something you'd like to eat during downward dog? We'll give you a $5 Time Out Market card to put toward your hard-earned brunch after class.
X-ALT-DESC;FMTTYPE=text/html:<h2 style="text-align: justify\;">Get your Zen on with founder Adrian Molina\, who leads a free yoga class at Time Out Market Miami. Please bring your own mat and bend\, stretch and twist surrounded by some of the city&rsquo\;s best chefs and restaurants. Catch a glimpse of something you&rsquo\;d like to eat during downward dog? We&rsquo\;ll give you a $5 Time Out Market card to put toward your hard-earned brunch after class.</h2>\n
LOCATION:Time Out Market Miami: 1601 Drexel Avenue\, Miami Beach\, FL 33139 ADDRESS 1601 Drexel Avenue Miami Beach\, Florida\, 33139
UID:e.166.48016
SEQUENCE:3
DTSTAMP:20260423T062214Z
URL:https://business.miamibeachchamber.com/events/details/warrior-flow-yoga-at-time-out-market-miami-48016
END:VEVENT

END:VCALENDAR
