BEGIN:VCALENDAR
VERSION:2.0
PRODID:-//ChamberMaster//Event Calendar 2.0//EN
METHOD:PUBLISH
X-PUBLISHED-TTL:P3D
REFRESH-INTERVAL:P3D
CALSCALE:GREGORIAN
BEGIN:VEVENT
DTSTART:20191030T130000Z
DTEND:20191030T150000Z
X-MICROSOFT-CDO-ALLDAYEVENT:FALSE
SUMMARY:Waffle Wednesday's with NS8
DESCRIPTION:We want to spend our last Wednesday mornings of the month with you. And we have waffles\, juices and hot coffee to share. So we're introducing: Waffle Wednesdays with NS8.\n\n\n\nStarting this month\, we have a series of morning talks with founders in the Miami Area. We're inviting the ecommerce community\, founders and entrepreneurs. If you're feeling hungry for both waffles and knowledge\, feel free to come by for a fresh cup of coffee/tea and some homemade waffles made with love (by our NS8 team).
X-ALT-DESC;FMTTYPE=text/html:We want to spend our last Wednesday mornings of the month with you. And we have waffles\, juices and hot coffee to share. So we&#39\;re introducing: Waffle Wednesdays with NS8.<br />\n<br />\nStarting this month\, we have a series of morning talks with founders in the Miami Area. We&rsquo\;re inviting the ecommerce community\, founders and entrepreneurs. If you&rsquo\;re feeling hungry for both waffles and knowledge\, feel free to come by for a fresh cup of coffee/tea and some homemade waffles made with love (by our NS8 team).
LOCATION:WeWork 350 Lincoln Rd Miami Beach\, FL
UID:e.166.44063
SEQUENCE:3
DTSTAMP:20260423T085050Z
URL:https://business.miamibeachchamber.com/events/details/waffle-wednesday-s-with-ns8-44063
END:VEVENT

END:VCALENDAR
