BEGIN:VCALENDAR
VERSION:2.0
PRODID:-//ChamberMaster//Event Calendar 2.0//EN
METHOD:PUBLISH
X-PUBLISHED-TTL:P3D
REFRESH-INTERVAL:P3D
CALSCALE:GREGORIAN
BEGIN:VEVENT
DTSTART:20200119T180000Z
DTEND:20200120T010000Z
X-MICROSOFT-CDO-ALLDAYEVENT:FALSE
SUMMARY:Voice & Guitar Under The Stars
DESCRIPTION:Join your neighbors for another great event at the Normandy Fountain - a glamorous evening under the stars! All day\, free-to-all\, family and pet-friendly\, event beginning with an artisan market and continuing into the evening with live performances featuring: \n\nVoice: Carla Bordonada\n\nSpecial Guest: Elsten Torres\n\nGuitar: Rolando Grooscors\n\n& DJ Eddy\n\n\n\n1PM Metroflea Miami's Artisan Market Begins\n\n1PM Yoga Class with Nobe Yoga \n\n3PM Children's Painting Activity \n\n5PM Musical Performances Begin
X-ALT-DESC;FMTTYPE=text/html:<span style="color:rgb(29\, 33\, 41)\; font-family:helvetica\,arial\,sans-serif\; font-size:14px">Join your neighbors for another great event at the Normandy Fountain - a glamorous evening under the stars! All day\, free-to-all\, family and pet-friendly\, event beginning with an artisan market and continuing into the evening with live performances featuring: </span><br />\n<span style="color:rgb(29\, 33\, 41)\; font-family:helvetica\,arial\,sans-serif\; font-size:14px">Voice: </span><a href="https://www.facebook.com/carlabordonadamusic/" style="color: rgb(56\, 88\, 152)\; cursor: pointer\; text-decoration-line: none\; font-family: Helvetica\, Arial\, sans-serif\; font-size: 14px\; white-space: pre-wrap\;" target="_blank">Carla Bordonada</a><br />\n<span style="color:rgb(29\, 33\, 41)\; font-family:helvetica\,arial\,sans-serif\; font-size:14px">Special Guest: Elsten Torres</span><br />\n<span style="color:rgb(29\, 33\, 41)\; font-family:helvetica\,arial\,sans-serif\; font-size:14px">Guitar: Rolando Grooscors</span><br />\n<span style="color:rgb(29\, 33\, 41)\; font-family:helvetica\,arial\,sans-serif\; font-size:14px">&amp\; DJ Eddy</span><br />\n<br />\n<span style="color:rgb(29\, 33\, 41)\; font-family:helvetica\,arial\,sans-serif\; font-size:14px">1PM </span><a href="https://www.facebook.com/MetrofleaMiami/" style="color: rgb(56\, 88\, 152)\; cursor: pointer\; text-decoration-line: none\; font-family: Helvetica\, Arial\, sans-serif\; font-size: 14px\; white-space: pre-wrap\;" target="_blank">Metroflea Miami</a><span style="color:rgb(29\, 33\, 41)\; font-family:helvetica\,arial\,sans-serif\; font-size:14px">&#39\;s Artisan Market Begins<br />\n1PM Yoga Class with Nobe Yoga&nbsp\;</span><br />\n<span style="color:rgb(29\, 33\, 41)\; font-family:helvetica\,arial\,sans-serif\; font-size:14px">3PM Children&#39\;s Painting Activity </span><br />\n<span style="color:rgb(29\, 33\, 41)\; font-family:helvetica\,arial\,sans-serif\; font-size:14px">5PM Musical Performances Begin</span>
LOCATION:Normandy Fountain 7802 Rue Vendome Miami Beach\, FL 33141
UID:e.166.47990
SEQUENCE:3
DTSTAMP:20260423T061934Z
URL:https://business.miamibeachchamber.com/events/details/voice-guitar-under-the-stars-47990
END:VEVENT

END:VCALENDAR
