BEGIN:VCALENDAR
VERSION:2.0
PRODID:-//ChamberMaster//Event Calendar 2.0//EN
METHOD:PUBLISH
X-PUBLISHED-TTL:P3D
REFRESH-INTERVAL:P3D
CALSCALE:GREGORIAN
BEGIN:VEVENT
DTSTART:20181128T133000Z
DTEND:20181128T153000Z
X-MICROSOFT-CDO-ALLDAYEVENT:FALSE
SUMMARY:Visitor's Day Breakfast
DESCRIPTION:Meet our Chamber Team and fellow members. Learn about how to take advantage of our organization at this special  orientation and networking meeting.\n\n\n\nBring lots of business cards and promotional material\; and for extra attention\, think about bringing a door prize to give away.\n\n\n\nBring a guest and if they sign up as a new member at the meeting\, you will be gifted $50 Chamber Bucks! Ask about this promotion!
X-ALT-DESC;FMTTYPE=text/html:<div><span style="font-size: 16px\;">Meet our Chamber Team and fellow members. Learn about how to take advantage of our organization at this special&nbsp\; orientation and networking meeting.</span><br />\n<br />\n<span style="font-size: medium\;">Bring lots of business cards and promotional material\; and for extra attention\, think about bringing a door prize to give away.</span></div>\n\n<div><br />\n<span style="font-size: medium\;">Bring a guest and if they sign up as a new member at the meeting\, you will be gifted $50 Chamber Bucks! Ask about this promotion!</span><br />\n&nbsp\;</div>\n
LOCATION:MIAMI BEACH CHAMBER OF COMMERCE 1920 MERIDIAN AVENUE MIAMI BEACH FL 33139
UID:e.166.30896
SEQUENCE:3
DTSTAMP:20260422T001408Z
URL:https://business.miamibeachchamber.com/events/details/visitor-s-day-breakfast-11-28-2018-30896
END:VEVENT

END:VCALENDAR
