BEGIN:VCALENDAR
VERSION:2.0
PRODID:-//ChamberMaster//Event Calendar 2.0//EN
METHOD:PUBLISH
X-PUBLISHED-TTL:P3D
REFRESH-INTERVAL:P3D
CALSCALE:GREGORIAN
BEGIN:VEVENT
DTSTART:20190215T000000Z
DTEND:20190215T060000Z
X-MICROSOFT-CDO-ALLDAYEVENT:FALSE
SUMMARY:Valentini: An Exclusive Valentine's Experience at the SLS South Beach
DESCRIPTION:Join Creative Glue for another edition of our annual singles party\, VALENTINI\, an exclusive evening of new encounters and cocktails at the SLS South Beach during Valentine's Day. We are teaming up with DISC\, Select\, Getaround\, and our amazing sponsors to bring back the magic of last year's event. Over 800+ singles and couples attended all for the chance to ignite the power of LOVE & CONNECTION.\n\n\n\nThis is not your typical Valentine's event because we blend elements of interactive activities\, brand activations\, and our signature activation\; the Perchance Speed Dating Session\, which hundreds of people participated in. Expect Kissing Booths\, VR activations\, Tarot Readings\, Pop-Ups and more. To top off the night we have a special live Art performance as well. Enjoy this and more on February 14th\, 2019.\n\n\n\nPS: We fed 10k kids last year from this event and we want to feed another 15k. So come support\, have a drink with us\, and leave with someone special.
X-ALT-DESC;FMTTYPE=text/html:<span style="color:rgb(32\, 32\, 32)\; font-family:helvetica\; font-size:16px">Join Creative Glue for another edition of our annual singles party\,&nbsp\;</span><span style="color:rgb(255\, 0\, 0)\; font-family:helvetica\; font-size:16px"><strong>VALENTINI</strong></span><span style="color:rgb(32\, 32\, 32)\; font-family:helvetica\; font-size:16px">\, an exclusive evening of new encounters and cocktails at the SLS South Beach during Valentine&#39\;s Day. We are teaming up with DISC\,<a href="http://meetselect.com">&nbsp\;</a></span><a href="http://meetselect.com"><span style="color:rgb(0\, 0\, 255)">Select</span></a><span style="color:rgb(32\, 32\, 32)\; font-family:helvetica\; font-size:16px">\,</span><span style="color:rgb(32\, 32\, 32)\; font-family:helvetica\; font-size:16px">&nbsp\;</span><a href="https://www.getaround.com/miami-car-rental"><span style="color:rgb(0\, 0\, 255)">Getaround</span></a><span style="color:rgb(32\, 32\, 32)\; font-family:helvetica\; font-size:16px"><a href="https://www.getaround.com/miami-car-rental">\,</a> and our amazing sponsors to bring back the magic of last year&#39\;s event. Over 800+ singles and couples attended all for the chance to ignite the power of&nbsp\;</span><a href="http://bit.ly/valentini19"><strong><span style="color:rgb(255\, 0\, 0)">LOVE &amp\; CONNECTION</span></strong></a><span style="color:rgb(32\, 32\, 32)\; font-family:helvetica\; font-size:16px">.</span><br />\n<br />\n<span style="color:rgb(0\, 0\, 0)\; font-family:helvetica\; font-size:16px">This is not your typical Valentine&#39\;s event because we blend elements of interactive activities\,&nbsp\;brand activations\, and our signature activation\; the&nbsp\;</span><a href="https://www.perchanceapp.com/" style="color: rgb(0\, 124\, 137)\; font-family: Helvetica\; font-size: 16px\; text-align: center\;" target="_blank"><span style="color:rgb(0\, 0\, 255)">Perchance</span></a><span style="color:rgb(0\, 0\, 0)\; font-family:helvetica\; font-size:16px">&nbsp\;Speed Dating Session\, which hundreds of people participated in. Expect Kissing Booths\, VR activations\, Tarot Readings\, Pop-Ups and more. To top off the night we have a special live Art performance as well.&nbsp\;Enjoy this and more on February 14th\, 2019.<br />\n<br />\nPS: We fed&nbsp\;</span><a href="https://vimeo.com/216322099"><span style="color:rgb(0\, 0\, 255)">10k kids last year</span></a><span style="color:rgb(0\, 0\, 0)\; font-family:helvetica\; font-size:16px"><a href="https://vimeo.com/216322099">&nbsp\;</a>from this event and we want to feed another 15k. So come&nbsp\;support\, have a drink with us\, and leave with someone special.&nbsp\;</span>
LOCATION:1701 Collins Ave Miami Beach\, FL
UID:e.166.40926
SEQUENCE:3
DTSTAMP:20260421T135416Z
URL:https://business.miamibeachchamber.com/events/details/valentini-an-exclusive-valentine-s-experience-at-the-sls-south-beach-40926
END:VEVENT

END:VCALENDAR
