BEGIN:VCALENDAR
VERSION:2.0
PRODID:-//ChamberMaster//Event Calendar 2.0//EN
METHOD:PUBLISH
X-PUBLISHED-TTL:P3D
REFRESH-INTERVAL:P3D
CALSCALE:GREGORIAN
BEGIN:VEVENT
DTSTART:20181227T170000Z
DTEND:20181227T183000Z
X-MICROSOFT-CDO-ALLDAYEVENT:FALSE
SUMMARY:Tourism & Hospitality Council Meeting
DESCRIPTION:On behalf of council Chair Ceci Velasco (Ocean Drive Association) and Vice Chair Stephanie leger (First Rate Hospitality) \, we invite you to join the Tourism & Hospitality Council for their monthly meeting.\n\n \n\n \n\n\n\n\nTourism & Hospitality Council Mission\n\n\n The mission of the Tourism and Hospitality Council is to engage and be a resource for local companies in the travel and tourism industry and businesses supporting the industry to achieve success. The council will support chamber members by providing educational opportunities with industry leaders and keeping them apprised of trends and issues affecting the industry.\n\n \nFor more information regarding the Tourism & Hospitality Council\, please contact Charlotte Riguad\, council liaison at events@miamibeachchamber.com.
X-ALT-DESC;FMTTYPE=text/html:<div><span style="text-align: center\;">On behalf of council Chair Ceci Velasco (Ocean Drive Association) and Vice Chair Stephanie leger (First Rate Hospitality) \, we invite you to join the Tourism &amp\; Hospitality Council for their monthly meeting.</span></div>\n\n<div>&nbsp\;</div>\n\n<div style="text-align: center\;">&nbsp\;\n<hr><br>\n<br>\n<u><strong>Tourism &amp\; Hospitality Council Mission</strong></u></div>\n<br>\n&nbsp\;<em><span style="color: rgb(68\, 68\, 68)\; font-family: Arial\, sans-serif\; font-size: 14.6667px\;">The mission of the Tourism and Hospitality Council is to engage and be a resource for local companies in the travel and tourism industry and businesses supporting the industry to achieve success. The council will support chamber members by providing educational opportunities with industry leaders and keeping them apprised of trends and issues affecting the industry.</span></em><br>\n&nbsp\;\n<div style="text-align: center\;">For more information regarding the Tourism &amp\; Hospitality Council\, please contact Charlotte Riguad\, council liaison at events@miamibeachchamber.com.</div>\n
LOCATION:ZOOM MEETING ID: 857 0510 7329 Click Here to register in advance for this meeting: https://us02web.zoom.us/meeting/register/tZEqd-yprjwpGN19TRKYp9LlLtvX6evPTkY7
UID:e.166.40450
SEQUENCE:3
DTSTAMP:20260421T224225Z
URL:https://business.miamibeachchamber.com/events/details/tourism-hospitality-council-meeting-12-27-2018-40450
END:VEVENT

END:VCALENDAR
