BEGIN:VCALENDAR
VERSION:2.0
PRODID:-//ChamberMaster//Event Calendar 2.0//EN
METHOD:PUBLISH
X-PUBLISHED-TTL:P3D
REFRESH-INTERVAL:P3D
CALSCALE:GREGORIAN
BEGIN:VEVENT
DTSTART;VALUE=DATE:20190904
DTEND;VALUE=DATE:20190905
TRANSP:TRANSPARENT
X-MICROSOFT-CDO-ALLDAYEVENT:TRUE
SUMMARY:Title 101 for Realtors - Become a Trusted Advisor for Your Clients! LUNCH & LEARN
DESCRIPTION:Title 101 for Realtors - Become a Trusted Advisor for Your Clients!\n\n\n\nLUNCH & LEARN with Devan Spinelli\, CEO & Founder of Closed Title Reinvented\n\n\n\nDiscover how an understanding of Title and Title Insurance can make you a High Performing Agent\n\n\n\nEarn 2 Hours CE Credits
X-ALT-DESC;FMTTYPE=text/html:Title 101 for Realtors - Become a Trusted Advisor for Your Clients!<br />\n<br />\nLUNCH &amp\; LEARN with Devan Spinelli\, CEO &amp\; Founder of Closed Title Reinvented<br />\n<br />\nDiscover how an understanding of Title and Title Insurance can make you a High Performing Agent<br />\n<br />\nEarn 2 Hours CE Credits
LOCATION:Keller Williams Miami Beach 1680 Meridian Ave\, Suite 200 Miami Beach\, FL 33139
UID:e.166.43349
SEQUENCE:3
DTSTAMP:20260423T090346Z
URL:https://business.miamibeachchamber.com/events/details/title-101-for-realtors-become-a-trusted-advisor-for-your-clients-lunch-learn-43349
END:VEVENT

END:VCALENDAR
