BEGIN:VCALENDAR
VERSION:2.0
PRODID:-//ChamberMaster//Event Calendar 2.0//EN
METHOD:PUBLISH
X-PUBLISHED-TTL:P3D
REFRESH-INTERVAL:P3D
CALSCALE:GREGORIAN
BEGIN:VEVENT
DTSTART:20191002T230000Z
DTEND:20191003T010000Z
X-MICROSOFT-CDO-ALLDAYEVENT:FALSE
SUMMARY:The G.I.F.T.: Guided Imagination For Transformation Workshop - RSVP Required
DESCRIPTION:Join us for the powerful H3 Guided Imagination for Transformation Workshop by Dr. Steven Roth. He has put together all he had learned and experienced into this process that he calls\, the G.I.F.T. (Guided Imagination For Transformation). The G.I.F.T is a revolutionary process utilizing the most effective and powerful components of Neuroscience\, Energy Psychology\, Neuro-linguistic programming\, Guided Imagery\, Cognitive Behavior therapy\, Gratitude and Forgiveness therapy\, and Hypnotherapy.\n\nThe G.I.F.T. Empowers you to be happier\, more confident and joyful in your life by providing these benefits:\n\n  Be more in the present\n\n  Let go of worry\n\n  Let go of fear and anxiety about the Future\n\n  Let go of any guilt\, regrets or shame from your past\, and most importantly\; you will be able to imagine and feel the gift of your brilliant future\n\n  Be able to manifest the health and success you deserve\n\nAbout Steven Roth:\n\nDr. Steven Roth has been a Cosmetic Dentist for over 30 years\, a student and teacher of Self-Development for the past 18 years and a Medical Hypnotherapist and Life Coach for the past 11 years. His goal is to unblocking clients from moving forward by eliminating mental suffering and envisioning an amazing future.\n\nFor RSVP and/or more information about the event\, visit https://h3hope.org.  You may also call 305.531.2046 or email info@h3hope.org.
X-ALT-DESC;FMTTYPE=text/html:<p><span style="font-size:14px"><span style="font-family:times new roman">Join us for the powerful H3 Guided Imagination for Transformation Workshop by Dr. Steven Roth. He has put together all he had learned and experienced into this process that he calls\, the G.I.F.T. (Guided Imagination For Transformation). The G.I.F.T is a revolutionary process utilizing the most effective and powerful components of Neuroscience\, Energy Psychology\, Neuro-linguistic programming\, Guided Imagery\, Cognitive Behavior therapy\, Gratitude and Forgiveness therapy\, and Hypnotherapy.</span></span></p>\n\n<p><span style="font-size:14px"><span style="font-family:times new roman">The G.I.F.T. Empowers you to be happier\, more confident and joyful in your life by providing these benefits:</span></span></p>\n\n<p><span style="font-size:14px"><span style="font-family:times new roman">&bull\; Be more in the present</span></span></p>\n\n<p><span style="font-size:14px"><span style="font-family:times new roman">&bull\; Let go of worry</span></span></p>\n\n<p><span style="font-size:14px"><span style="font-family:times new roman">&bull\; Let go of fear and anxiety about the Future</span></span></p>\n\n<p><span style="font-size:14px"><span style="font-family:times new roman">&bull\; Let go of any guilt\, regrets or shame from your past\, and most importantly\; you will be able to imagine and feel the gift of your brilliant future</span></span></p>\n\n<p><span style="font-size:14px"><span style="font-family:times new roman">&bull\; Be able to manifest the health and success you deserve</span></span></p>\n\n<p><span style="font-size:14px"><span style="font-family:times new roman"><strong>About Steven Roth:</strong></span></span></p>\n\n<p><span style="font-size:14px"><span style="font-family:times new roman">Dr. Steven Roth has been a Cosmetic Dentist for over 30 years\, a student and teacher of Self-Development for the past 18 years and a Medical Hypnotherapist and Life Coach for the past 11 years. His goal is to unblocking clients from moving forward by eliminating mental suffering and envisioning an amazing future.</span></span></p>\n\n<p><span style="font-size:14px"><span style="font-family:times new roman">For&nbsp\;<strong>RSVP&nbsp\;</strong>and/or more information about the event\, visit https://h3hope.org.</span></span>&nbsp\; You may also&nbsp\;<span style="font-size:14px"><span style="font-family:times new roman">call 305.531.2046 or email&nbsp\;info@h3hope.org.</span></span></p>\n\n<p>&nbsp\;</p>\n\n<p>&nbsp\;</p>\n
LOCATION:Where: Miami\, Fl (Full address will be provided upon completion of registration) RSVP at https://h3hope.org/h3-guided-imagination-for-transformation-workshop/
UID:e.166.43901
SEQUENCE:3
DTSTAMP:20260423T103242Z
URL:https://business.miamibeachchamber.com/events/details/the-g-i-f-t-guided-imagination-for-transformation-workshop-43901
END:VEVENT

END:VCALENDAR
