BEGIN:VCALENDAR
VERSION:2.0
PRODID:-//ChamberMaster//Event Calendar 2.0//EN
METHOD:PUBLISH
X-PUBLISHED-TTL:P3D
REFRESH-INTERVAL:P3D
CALSCALE:GREGORIAN
BEGIN:VEVENT
DTSTART:20191007T163000Z
DTEND:20191007T223000Z
X-MICROSOFT-CDO-ALLDAYEVENT:FALSE
SUMMARY:The Future Of Learning Forum
DESCRIPTION:About the Event\n\n\nThe inaugural Future of Learning Forum is being brought to you by Blockchain Learning Group\, a Canadian-based blockchain education company that provides experiential-based training programs for high schools. This forum has been created to bring together thought leaders in the education sector\, including educators\, policy makers and experts\, to explore the impact that technology will have on the future of learning and work.\n\n\nObjective of Forum\n\n\n\n	How do we ensure we are building curriculum today that addresses the 21st century global competencies needed for tomorrow? \n	How do we capitalize on opportunities to expose students to emerging technologies such as blockchain and artificial intelligence in a systematic and consistent manner? \n	Are we doing enough with our curriculum programming to promote greater critical thinking\, problem solving\, innovation\, creativity\, or an entrepreneurship spirit at every opportunity?\n\n\nThere will also be an exciting line-up of panels which will tackle issues such as: exploring the technology skills gap of students leaving high school\; seeing examples of innovative learning approaches being done in Canadian high schools currently\; and a panel of senior leaders who will discuss the path forward in a segment we are dubbing #SoWhatNowWhat\n\nWhy you Should Attend?\n\n\n As educators continue to grapple with how to best prepare our high school students for the workforce of tomorrow\, and what that means for the new and innovative learning approaches we need to instill today\, forums such as The Future of Learning play an invaluable role in bringing together the most forward thinking minds in the education sector to focus only on this one topic area. \n\n \n\nDon't miss this opportunity to be a part of the solution moving forward!
X-ALT-DESC;FMTTYPE=text/html:<h4>About the Event</h4>\n\n<div>\n<p>The inaugural Future of Learning Forum is being brought to you by Blockchain Learning Group\, a Canadian-based blockchain education company that provides experiential-based training programs for high schools. This forum has been created to bring together thought leaders in the education sector\, including educators\, policy makers and experts\, to explore the impact that technology will have on the future of learning and work.</p>\n\n<div>\n<h4>Objective of Forum</h4>\n\n<div style="text-align:center">\n<ul>\n	<li style="text-align: left\;">How do we ensure we are building curriculum today that addresses the 21st century global competencies needed for tomorrow?&nbsp\;</li>\n	<li style="text-align: left\;">How do we capitalize on opportunities to expose students to emerging technologies such as blockchain and artificial intelligence in a systematic and consistent manner?&nbsp\;</li>\n	<li style="text-align: left\;">Are we doing enough with our curriculum programming to promote greater critical thinking\, problem solving\, innovation\, creativity\, or an entrepreneurship spirit at every opportunity?</li>\n</ul>\n\n<p style="text-align: left\;">There will also be an exciting line-up of panels which will tackle issues such as: exploring the technology skills gap of students leaving high school\; seeing examples of innovative learning approaches being done in Canadian high schools currently\; and a panel of senior leaders who will discuss the path forward in a segment we are dubbing #SoWhatNowWhat</p>\n\n<p style="text-align: left\;">Why you Should Attend?</p>\n\n<div style="text-align:center">\n<p style="text-align: left\;">&nbsp\;As educators continue to grapple with how to best prepare our high school students for the workforce of tomorrow\, and what that means for the new and innovative learning approaches we need to instill today\, forums such as The Future of Learning play an invaluable role in bringing together the most forward thinking minds in the education sector to focus only on this one topic area.&nbsp\;</p>\n\n<p style="text-align: left\;">&nbsp\;</p>\n\n<p style="text-align: left\;">Don&rsquo\;t miss this opportunity to be a part of the solution moving forward!&nbsp\;</p>\n</div>\n</div>\n</div>\n</div>\n
LOCATION:Downtown Toronto\, Ontario We will also be streaming the event live via a webcast\, so if you cannot make it to Toronto\, please register for the webcast by emailing: murtaza@blockchainlearninggroup.com
UID:e.166.43342
SEQUENCE:3
DTSTAMP:20260423T102956Z
URL:https://business.miamibeachchamber.com/events/details/the-future-of-learning-forum-43342
END:VEVENT

END:VCALENDAR
