BEGIN:VCALENDAR
VERSION:2.0
PRODID:-//ChamberMaster//Event Calendar 2.0//EN
METHOD:PUBLISH
X-PUBLISHED-TTL:P3D
REFRESH-INTERVAL:P3D
CALSCALE:GREGORIAN
BEGIN:VEVENT
DTSTART:20191029T223000Z
DTEND:20191030T000000Z
X-MICROSOFT-CDO-ALLDAYEVENT:FALSE
SUMMARY:Technology Council X Tech Beach
DESCRIPTION:Technology Council will  be joining Tech Beach this month at WeWork Lincoln Road.\n\n\n\nThe Miami Beach Chamber of Commerce Technology Council and Tech Beach invite you to attend the upcoming Startup Open Mic Night at WeWork Lincoln Road on Tuesday\, October 29 from 6:30-8:00pm.\n\n\n\nStartup Open Mic Night is a community building event where local tech entrepreneurs deliver 5 minute presentations about their ventures to the audience and a panel of experts. After each presentation\, the experts ask questions and provide feedback and the audience can submit comments online.\n\nThe presenters gain valuable experience in front of a live crowd and attendees get to learn about the newest local startups (please note that this is not a pitch event for raising money\, so founders will not be soliciting the audience for investments).\n\n \n\nWe encourage all Tech Council members to RSVP and join us in supporting our local startup and tech communities.
X-ALT-DESC;FMTTYPE=text/html:Technology Council will&nbsp\; be joining Tech Beach this month at WeWork Lincoln Road.<br />\n<br />\n<span style="background:white\;">The Miami Beach Chamber of Commerce Technology Council and Tech Beach invite you to attend the upcoming Startup Open Mic Night at WeWork Lincoln Road&nbsp\;</span>on Tuesday\, October 29 from 6:30-8:00pm<span style="background:white\;">.</span><br />\n<br />\n<span style="background:white\;">Startup Open Mic Night is a community building event where local tech entrepreneurs&nbsp\;deliver 5 minute presentations about their ventures to the audience and a panel of experts. After each presentation\, the experts ask questions and provide feedback and the audience can submit comments online.</span><br />\nThe presenters gain valuable experience in front of a live crowd and attendees get to learn about the newest local startups (please note that this is not a pitch event for raising money\, so founders will not be soliciting the audience for investments).<br />\n&nbsp\;<br />\nWe encourage all Tech Council members to RSVP and join us in supporting our local startup and tech communities.&nbsp\;<br />\n&nbsp\;<br />\n&nbsp\;
LOCATION:WeWork Lincoln Road 350 Lincoln Rd\, Miami Beach\, FL 33139
UID:e.166.43902
SEQUENCE:3
DTSTAMP:20260423T102943Z
URL:https://business.miamibeachchamber.com/events/details/technology-council-x-tech-beach-43902
END:VEVENT

END:VCALENDAR
