BEGIN:VCALENDAR
VERSION:2.0
PRODID:-//ChamberMaster//Event Calendar 2.0//EN
METHOD:PUBLISH
X-PUBLISHED-TTL:P3D
REFRESH-INTERVAL:P3D
CALSCALE:GREGORIAN
BEGIN:VEVENT
DTSTART:20190917T200000Z
DTEND:20190917T210000Z
X-MICROSOFT-CDO-ALLDAYEVENT:FALSE
SUMMARY:Sister Cities Committee Meeting
DESCRIPTION:The Chamber is excited to announce that it has partnered with the City of Miami Beach and will be taking an active role in its official Sister Cities program. Chaired by George Neary and Monie Cohen\, the Sister Cities Committee is inviting members to sign up as participants of this council.\n\n\n\nOriginally\, the Miami Beach Sister Cities International Program was set up to engage Miami Beach residents and\n\nits sister cities abroad in partnerships and exchanges that promote trade\, economic development\, cultural awareness and educational opportunities.\n\n\n\nPlease RSVP to attend this introductory meeting and learn more about this new and exciting revitalized program and its mission.
X-ALT-DESC;FMTTYPE=text/html:<span style="font-family:calibri light\,sans-serif\;"><span style="font-size:11.0pt\;">The Chamber is excited to announce that it has partnered with the City of Miami Beach and will be taking an active role in its official Sister Cities program. Chaired by George Neary and Monie Cohen\, the <strong><em>Sister Cities Committee</em></strong> is inviting members to sign up as participants of this council.<br />\n<br />\nOriginally\, the Miami Beach Sister Cities International Program was set up to engage Miami Beach residents and<br />\nits sister cities abroad in partnerships and exchanges that promote trade\, economic development\, cultural awareness and educational opportunities.<br />\n<br />\nPlease RSVP to attend this introductory meeting and learn more about this new and exciting revitalized program and its mission.&nbsp\;</span></span>
LOCATION:Miami Beach Chamber Boardroom 3rd Floor 1920 Meridian Avenue\, Miami Beach\, FL 33139
UID:e.166.43354
SEQUENCE:3
DTSTAMP:20260423T085212Z
URL:https://business.miamibeachchamber.com/events/details/sister-cities-committee-meeting-43354
END:VEVENT

END:VCALENDAR
