BEGIN:VCALENDAR
VERSION:2.0
PRODID:-//ChamberMaster//Event Calendar 2.0//EN
METHOD:PUBLISH
X-PUBLISHED-TTL:P3D
REFRESH-INTERVAL:P3D
CALSCALE:GREGORIAN
BEGIN:VEVENT
DTSTART:20190926T220000Z
DTEND:20190927T000000Z
X-MICROSOFT-CDO-ALLDAYEVENT:FALSE
SUMMARY:September Pillar Dinner at Meat Market
DESCRIPTION:The Miami Beach Chamber of Commerce Pillar Trustees invite you to our\n\n\n\nSeptember Pillar Dinner at \n\nMeat Market\n\n\n\nThursday\, September 26\, 2019\n\n6:00 PM - 8:00 PM\n\n\n\nRegistration\n\n\n\nDinner cost is $60 per guest.\n\n\n\nThis event is exclusively for Pillar members\, Seating is limited. Please RSVP early\n\nCancellations with a full refund must be made 2 business days prior to the event.\n\n\n\nMENU\n\n\n\nAppetizers\n\nChoice of\n\n\n\nTHE CLASSIC CAESAR\n\nRomaine\, Parmesan\, Crouton\n\n\n\nMeat Market HOUSE SALAD\n\n\n\nEntr es\n\nChoice of\n\n8 OUNCE CHURRASCO STEAK\n\nServed Market French Fries and Chimichurri\n\n\n\nAMERICAN STYLE KOBE" MEATLOAF\n\nBacon\, Mango Bbq\, Sweet & Sour Onion Rings\, Curried Sweet Potato Mash\n\n\n\nWOOD GRILLED SCOTTISH SALMON\n\nStir Fried Quinoa and Red Wine Cherry Butter\n\n\n\nROASTED CAULIFLOWER\n\nLemon\, Parsley\, Capers and Parmesan\n\n\n\nDESSERT: \n\nServed Family Style\n\n\n\nWARM NUTELLA CHOCOLATE CHIP COOKIES\n\n&\n\nGUAVA DONUTS
X-ALT-DESC;FMTTYPE=text/html:<p style="text-align: center\;"><span style="font-size:20px\;">The Miami Beach Chamber of Commerce Pillar Trustees invite you to our<br />\n<br />\n<span style="font-size:24px\;"><span style="font-size:22px\;">September Pillar Dinner&nbsp\;</span><span style="font-size:26px\;"><span style="font-size:22px\;">at </span></span><br />\n<strong><span style="font-size:26px\;"><strong><em>Meat Market</em></strong></span></strong></span></span><br />\n<br />\n<span style="font-size:16px\;">Thursday\, September 26\, 2019<br />\n6:00 PM - 8:00 PM<br />\n<br />\n<u><strong>Registration</strong></u></span><br />\n<br />\n<span style="font-size:14px\;">Dinner cost is $60 per guest.<br />\n<br />\nThis event is exclusively for Pillar members\, Seating is limited. Please RSVP early<br />\n<strong><span style="color:#FF0000\;"><em>Cancellations with a full refund must be made 2 business days prior to the event.</em></span><br />\n<br />\n<u><span style="font-size:16px\;">MENU</span></u></strong></span><br />\n<br />\n<u><strong>Appetizers</strong></u><br />\nChoice of<br />\n<br />\nTHE CLASSIC CAESAR<br />\nRomaine\, Parmesan\, Crouton<br />\n<br />\nMeat Market HOUSE SALAD<br />\n<br />\n<u><strong>Entr&eacute\;es</strong></u><br />\nChoice of<br />\n8 OUNCE CHURRASCO STEAK<br />\nServed Market French Fries and Chimichurri<br />\n<br />\nAMERICAN STYLE KOBE&rdquo\; MEATLOAF<br />\nBacon\, Mango Bbq\, Sweet &amp\; Sour Onion Rings\, Curried Sweet Potato Mash<br />\n<br />\nWOOD GRILLED SCOTTISH SALMON<br />\nStir Fried Quinoa and Red Wine Cherry Butter<br />\n<br />\nROASTED CAULIFLOWER<br />\nLemon\, Parsley\, Capers and Parmesan<br />\n<br />\n<u><strong>DESSERT: </strong></u><br />\nServed Family Style<br />\n<br />\nWARM NUTELLA CHOCOLATE CHIP COOKIES<br />\n&amp\;<br />\nGUAVA DONUTS<br />\n<span style="font-size:20px\;"><span style="font-size:24px\;"><strong><em><strong><em><span _fck_bookmark="1" style="display: none\;">&nbsp\;</span></em></strong></em></strong></span></span></p>\n
LOCATION:Meat Market 915 Lincoln Road Miami Beach FL 33139
UID:e.166.43278
SEQUENCE:3
DTSTAMP:20260423T085202Z
URL:https://business.miamibeachchamber.com/events/details/september-pillar-dinner-at-meat-market-43278
END:VEVENT

END:VCALENDAR
