BEGIN:VCALENDAR
VERSION:2.0
PRODID:-//ChamberMaster//Event Calendar 2.0//EN
METHOD:PUBLISH
X-PUBLISHED-TTL:P3D
REFRESH-INTERVAL:P3D
CALSCALE:GREGORIAN
BEGIN:VEVENT
DTSTART:20190918T220000Z
DTEND:20190919T000000Z
X-MICROSOFT-CDO-ALLDAYEVENT:FALSE
SUMMARY:September Networker & Dinner at 222 Taco
DESCRIPTION:The Miami Beach Chamber of Commerce Invites You to our September Networker & Dinner at \n\n\n\n222 Taco\n\n1624 79th Street Causeway\, North Bay Village\, FL 33141\n\n \n\nJoin us for our monthly networker from 6:00 PM - 7:00 PM  followed by a 3-course dining experience from 7:00 PM - 8:00 PM at 222 Taco\, a Mexican comfort food dive with a full service margarita bar called La Margarita Shop.\n\n\n\nDuring our special networker\, you'll also enjoy a \n\n\n\n "Michelada Making Experience"\n\n \n\n\n\nAbout 222 Taco\n\n\n\n222 Taco offers fast-casual Mexican comfort food\, as well as a full-service margarita bar called La Margarita Shop and a robust music program. Join us in our North Bay Village home. Stop by our bar for a cocktail\, or two\, enjoy the friendly hospitality and our delicious Mexican cuisine. We have a large variety of tequilas\, a full bar\, delicious salsa bar with special sauce pairings and more. You'll fall in love with us! Taco Tuesday specials every week!
X-ALT-DESC;FMTTYPE=text/html:<div style="text-align: center\;">The Miami Beach Chamber of Commerce Invites You to our September&nbsp\;Networker &amp\; Dinner at&nbsp\;<br />\n<br />\n<strong style="text-align: center\; color: rgb(51\, 51\, 51)\; line-height: 22.4px\; font-family: tahoma\; background-color: rgb(255\, 255\, 255)\;"><span style="font-size: 22px\;">222 Taco</span><br />\n1624 79th Street Causeway\, North Bay Village\, FL 33141</strong></div>\n\n<div>&nbsp\;</div>\n\n<div style="text-align: center\;">Join us for our monthly networker from 6:00 PM - 7:00 PM &nbsp\;followed by a 3-course dining experience from 7:00 PM - 8:00 PM at 222 Taco\, a Mexican comfort food dive with a full service margarita bar called La Margarita Shop.<br />\n<br />\nDuring our special networker\, you&#39\;ll also enjoy a&nbsp\;<br />\n<br />\n<span style="font-size:18px\;"><strong>&nbsp\;&quot\;Michelada Making Experience&quot\;</strong></span><br />\n&nbsp\;\n<hr />\n<p><br />\n<span style="font-size:12px\;"><strong><u>About 222 Taco</u></strong></span><br />\n<br />\n222 Taco offers fast-casual Mexican comfort food\, as well as a full-service margarita bar called La Margarita Shop and a robust music program. Join us in our North Bay Village home. Stop by our bar for a cocktail\, or two\, enjoy the friendly hospitality and our delicious Mexican cuisine. We have a large variety of tequilas\, a full bar\, delicious salsa bar with special sauce pairings and more. You&#39\;ll fall in love with us! Taco Tuesday specials every week!<br />\n&nbsp\;</p>\n</div>\n
LOCATION:222 Taco 1624 79th Street Causeway\, North Bay Village\, FL 33141
UID:e.166.43289
SEQUENCE:3
DTSTAMP:20260423T092856Z
URL:https://business.miamibeachchamber.com/events/details/september-networker-dinner-at-222-taco-43289
END:VEVENT

END:VCALENDAR
