BEGIN:VCALENDAR
VERSION:2.0
PRODID:-//ChamberMaster//Event Calendar 2.0//EN
METHOD:PUBLISH
X-PUBLISHED-TTL:P3D
REFRESH-INTERVAL:P3D
CALSCALE:GREGORIAN
BEGIN:VEVENT
DTSTART:20181110T150000Z
DTEND:20181110T170000Z
X-MICROSOFT-CDO-ALLDAYEVENT:FALSE
SUMMARY:Second Saturday Seminar: Winning Plants For Winning Gardens with Jesse Durko
DESCRIPTION:We are thrilled to have Jesse back by popular demand at November's SSSeminar. He will be speaking about winning plants for your home\, patio and garden. The lecture will feature examples of live plants. An array of species will be available for purchase after his talk. \n\nJesse opened his famous Broward County tropical nursery and gardens in 1990\, with the goal to improve the world through horticulture. His worldwide tropical and sub-tropical plant collection includes fragrant flowers\, colorful shrubs\, aroids\, heliconias\, gingers\, bromeliads\, palms\, bamboos\, orchids\, and flowering trees. Naturally\, a large collection of Florida native plants is blended with the showy exotic plants\, all selected and tested for their hardiness\, ease of maintenance and beauty in the landscape\, to work together in a spectacular South Florida garden.
X-ALT-DESC;FMTTYPE=text/html:<p>We are thrilled to have Jesse back by popular demand at November&#39\;s SSSeminar. He&nbsp\;will be speaking about winning plants for your home\, patio and garden. The lecture will feature examples of live plants. An array of species will be available for purchase after his talk.&nbsp\;</p>\n\n<p>Jesse opened his famous Broward County tropical nursery and gardens in 1990\, with the goal to improve the world through horticulture. His worldwide tropical and sub-tropical plant collection includes fragrant flowers\, colorful shrubs\, aroids\, heliconias\, gingers\, bromeliads\, palms\, bamboos\, orchids\, and flowering trees. Naturally\, a large collection of Florida native plants is blended with the showy exotic plants\, all selected and tested for their hardiness\, ease of maintenance and beauty in the landscape\, to work together in a spectacular South Florida garden.</p>\n
LOCATION:Miami Beach Botanical Garden 2000 Convention Center Dr Miami Beach\, FL 33139
UID:e.166.39041
SEQUENCE:3
DTSTAMP:20260422T001659Z
URL:https://business.miamibeachchamber.com/events/details/second-saturday-seminar-winning-plants-for-winning-gardens-with-jesse-durko-39041
END:VEVENT

END:VCALENDAR
