BEGIN:VCALENDAR
VERSION:2.0
PRODID:-//ChamberMaster//Event Calendar 2.0//EN
METHOD:PUBLISH
X-PUBLISHED-TTL:P3D
REFRESH-INTERVAL:P3D
CALSCALE:GREGORIAN
BEGIN:VEVENT
DTSTART:20200111T150000Z
DTEND:20200111T170000Z
X-MICROSOFT-CDO-ALLDAYEVENT:FALSE
SUMMARY:Second Saturday Seminar: All About Cycads
DESCRIPTION:Rory Antolak\, who has studied neotropical cycads in the field extensively\, will give a brief overview of cycad biology (i.e. what is a cycad?)\, followed by photos and an overview of selected favorite species in habitat. A number of these species are very poorly documented and have never been photographed formerly. Small plants of some exceptionally rare and favorite species will also be brought for display/sale.
X-ALT-DESC;FMTTYPE=text/html:<p>Rory Antolak\, who has studied neotropical cycads in the field extensively\, will give a brief overview of cycad biology (i.e. what is a cycad?)\, followed by photos and an overview of selected favorite species in habitat. A number of these species are very poorly documented and have never been photographed formerly. Small plants of some exceptionally rare and favorite species will also be brought for display/sale.</p>\n
LOCATION:Miami Beach Botanical Garden 2000 Convention Center Dr. Miami Beach\, FL 33139 305.673.7256
UID:e.166.48009
SEQUENCE:3
DTSTAMP:20260423T062018Z
URL:https://business.miamibeachchamber.com/events/details/second-saturday-seminar-all-about-cycads-48009
END:VEVENT

END:VCALENDAR
