BEGIN:VCALENDAR
VERSION:2.0
PRODID:-//ChamberMaster//Event Calendar 2.0//EN
METHOD:PUBLISH
X-PUBLISHED-TTL:P3D
REFRESH-INTERVAL:P3D
CALSCALE:GREGORIAN
BEGIN:VEVENT
DTSTART:20191026T220000Z
DTEND:20191027T010000Z
X-MICROSOFT-CDO-ALLDAYEVENT:FALSE
SUMMARY:SALSA SATURDAY/DAY OF THE DEAD! - FREE
DESCRIPTION:We are bringing back the muy popular Salsa Saturday to Normandy Fountain with performances by DJ Leo and the legendary Tito Puente Jr! The evening will kick off with a 6pm Salsa Class led by Fernando Garcia\, then Tito will take the stage at 7pm. In addition to the music and dancing\, we will have Day of the Dead inspired activities! Flower crown making hosted by Abbott Florist! Day of the Dead face painting by Painting with a Twist. There will be Sangria and Mojitos provided by Bob's Your Uncle with delicious food from Las Vacas Gordas and Silverlake! Brought to you by the Normandy Fountain Business Association\, KCC Productions and the City of Miami Beach!\n\n\n\nBring your family and your dogs!
X-ALT-DESC;FMTTYPE=text/html:We are bringing back the muy popular Salsa Saturday to Normandy Fountain with performances by DJ Leo and the legendary Tito Puente Jr! The evening will kick off with a 6pm Salsa Class led by Fernando Garcia\, then Tito will take the stage at 7pm. In addition to the music and dancing\, we will have Day of the Dead inspired activities! Flower crown making hosted by Abbott Florist! Day of the Dead face painting by Painting with a Twist. There will be Sangria and Mojitos provided by Bob&#39\;s Your Uncle with delicious food from Las Vacas Gordas and Silverlake! Brought to you by the Normandy Fountain Business Association\, KCC Productions and the City of Miami Beach!<br />\n<br />\nBring your family and your dogs!
LOCATION:Normandy Fountain in the North Beach neighborhood of Miami Beach Intersection of 71st Street and Normandy Drive on Normandy Isle
UID:e.166.44051
SEQUENCE:3
DTSTAMP:20260423T103634Z
URL:https://business.miamibeachchamber.com/events/details/salsa-saturday-day-of-the-dead-free-44051
END:VEVENT

END:VCALENDAR
