BEGIN:VCALENDAR
VERSION:2.0
PRODID:-//ChamberMaster//Event Calendar 2.0//EN
METHOD:PUBLISH
X-PUBLISHED-TTL:P3D
REFRESH-INTERVAL:P3D
CALSCALE:GREGORIAN
BEGIN:VEVENT
DTSTART:20200112T200000Z
DTEND:20200112T210000Z
X-MICROSOFT-CDO-ALLDAYEVENT:FALSE
SUMMARY:Ribbon Cutting Rita's of Miami Beach
DESCRIPTION:Rita's of Miami Beach Celebrates it's\n\nGrand Opening\n\n\n\nEnjoy $1 Italian Ice  and $2 Gelati\n\n\n\n11 AM | First 50 Families in line get FREE Rita's for a year\n\n\n\n12 PM - 3 PM | Face Painting and Balloon Artist\n\n\n\n3 PM | Ribbon Cutting Ceremony with Mayor Gelber and Miami Beach Chamber of Commerce\n\n\n\n3:30 PM - 6 PM | Live music and Balloon Artist\n\n\n\nWith Special Performance by the Miami Beach Senior High Rock Ensemble
X-ALT-DESC;FMTTYPE=text/html:<div style="text-align: center\;"><span style="font-size:18px\;">Rita&#39\;s of Miami Beach Celebrates it&#39\;s<br />\n<strong><span style="font-size:24px\;">Grand Opening</span></strong><br />\n<br />\n<em><span style="font-size:24px\;"><span style="font-size:16px\;">Enjoy $1 Italian Ice&nbsp\; and $2 Gelati</span></span></em><br />\n<br />\n<span style="font-size:24px\;"><span style="font-size:14px\;"><strong>11 AM</strong> | First 50 Families in line get FREE Rita&#39\;s for a year<br />\n<br />\n<strong>12 PM - 3 PM</strong> | Face Painting and Balloon Artist<br />\n<br />\n<strong>3 PM</strong> | Ribbon Cutting Ceremony with Mayor Gelber and Miami Beach Chamber of Commerce<br />\n<br />\n<strong>3:30 PM - 6 PM</strong> | Live music and Balloon Artist<br />\n<br />\n<em><span style="font-size:18px\;">With Special Performance by the Miami Beach Senior High Rock Ensemble</span></em></span></span></span><br />\n<br />\n&nbsp\;</div>\n
LOCATION:6782 Collins Avenue\, Miami Beach\, FL 33141
UID:e.166.47992
SEQUENCE:3
DTSTAMP:20260423T062215Z
URL:https://business.miamibeachchamber.com/events/details/ribbon-cutting-rita-s-of-miami-beach-47992
END:VEVENT

END:VCALENDAR
