BEGIN:VCALENDAR
VERSION:2.0
PRODID:-//ChamberMaster//Event Calendar 2.0//EN
METHOD:PUBLISH
X-PUBLISHED-TTL:P3D
REFRESH-INTERVAL:P3D
CALSCALE:GREGORIAN
BEGIN:VEVENT
DTSTART:20200227T140000Z
DTEND:20200227T150000Z
X-MICROSOFT-CDO-ALLDAYEVENT:FALSE
SUMMARY:Ribbon Cutting NS8
DESCRIPTION:Join us for  Ribbon Cutting Ceremony at NS8\n\n\n\nEnjoy lite breakfast bites and mimosas.\n\n\n\nThursday\, February 27\, 2020 \n\n9:00 AM - 10:00 AM \n\n\n\nNS8 is a comprehensive fraud prevention platform that combines behavioral analytics\, real-time\n\nscoring\, and global monitoring to help businesses minimize risk. Its patented scoring technology\n\nprovides actionable data about the type\, quality\, and trustworthiness of transactions\, which\n\nbusinesses can leverage to automate fraud management workflows to suit their individual\n\nneeds. NS8 also offers supplemental data through third-party extensions as well as seamless\n\nintegrations with industry-leading ecommerce platforms that enable businesses to begin fighting\n\nfraud within minutes.
X-ALT-DESC;FMTTYPE=text/html:<div style="text-align: center\;"><span style="font-size:14px\;"><strong>Join us for&nbsp\; Ribbon Cutting Ceremony at NS8</strong></span><br />\n<br />\n<em>Enjoy lite breakfast bites and mimosas.</em><br />\n<br />\n<span style="font-size:16px\;"><strong>Thursday\, February 27\, 2020&nbsp\;<br />\n9:00 AM - 10:00 AM&nbsp\;</strong></span><br />\n<br />\nNS8 is a comprehensive fraud prevention platform that combines behavioral analytics\, real-time<br />\nscoring\, and global monitoring to help businesses minimize risk. Its patented scoring technology<br />\nprovides actionable data about the type\, quality\, and trustworthiness of transactions\, which<br />\nbusinesses can leverage to automate fraud management workflows to suit their individual<br />\nneeds. NS8 also offers supplemental data through third-party extensions as well as seamless<br />\nintegrations with industry-leading ecommerce platforms that enable businesses to begin fighting<br />\nfraud within minutes.</div>\n
LOCATION:360 NW 27th ST Miami FL 33127
UID:e.166.48329
SEQUENCE:3
DTSTAMP:20260423T044518Z
URL:https://business.miamibeachchamber.com/events/details/ribbon-cutting-ns8-48329
END:VEVENT

END:VCALENDAR
