BEGIN:VCALENDAR
VERSION:2.0
PRODID:-//ChamberMaster//Event Calendar 2.0//EN
METHOD:PUBLISH
X-PUBLISHED-TTL:P3D
REFRESH-INTERVAL:P3D
CALSCALE:GREGORIAN
BEGIN:VEVENT
DTSTART:20200214T160000Z
DTEND:20200214T220000Z
X-MICROSOFT-CDO-ALLDAYEVENT:FALSE
SUMMARY:Ribbon Cutting Miami Beach Family and Sports Chiropractic Center
DESCRIPTION:Join us for a toast as we celebrate the new location of\n\n\n\nMiami Beach Family and Sports Chiropractic Center\n\n\n\nJoin us for a ribbon-cutting and proclamation by the City of Miami Beach Commission. Also\, join us for a special congratulation certificate presentation by the Miami-Dade County Commission.\n\n\n\n11:30 AM: Ribbon Cutting.\n\n\n\n11:30 AM - 1:30 PM: Chair Massages by Mark Alexander.\n\n\n\n12:30 PM - 2:00 PM: Sound Bowl Experience by Emily Basford from SolFreshLife.\n\n\n\n3:30 PM - 5:30 PM: Chair Massages by Mark Alexander.\n\n\n\n4:30 PM: Happy Hour and Champagne Toast.
X-ALT-DESC;FMTTYPE=text/html:<div style="text-align: center\;">Join us for a toast&nbsp\;as we celebrate the new location of<br />\n<br />\n<span style="font-size:18px\;"><strong>Miami Beach Family and Sports Chiropractic Center</strong></span><br />\n<br />\nJoin us for a ribbon-cutting&nbsp\;and proclamation by the City of Miami Beach Commission. Also\, join us for a special congratulation certificate presentation by the Miami-Dade County Commission.<br />\n<br />\n<strong>11:30 AM: </strong>Ribbon Cutting.<br />\n<br />\n<strong>11:30 AM - 1:30 PM:</strong> Chair Massages by Mark Alexander.<br />\n<br />\n<strong>12:30 PM - 2:00 PM:</strong> Sound Bowl Experience by Emily Basford from SolFreshLife.<br />\n<br />\n<span style="text-align: center\;"><strong>3:30 PM - 5:30 PM: </strong>Chair Massages by Mark Alexander.<br />\n<br />\n<strong>4:30 PM:</strong> Happy Hour and Champagne Toast.</span><br />\n&nbsp\;</div>\n
LOCATION:975 Arthur Godfrey Road Suite 102 Miami Beach FL 33140
UID:e.166.48026
SEQUENCE:3
DTSTAMP:20260423T045055Z
URL:https://business.miamibeachchamber.com/events/details/ribbon-cutting-miami-beach-family-and-sports-chiropractic-center-48026
END:VEVENT

END:VCALENDAR
