BEGIN:VCALENDAR
VERSION:2.0
PRODID:-//ChamberMaster//Event Calendar 2.0//EN
METHOD:PUBLISH
X-PUBLISHED-TTL:P3D
REFRESH-INTERVAL:P3D
CALSCALE:GREGORIAN
BEGIN:VEVENT
DTSTART:20200127T210000Z
DTEND:20200127T223000Z
X-MICROSOFT-CDO-ALLDAYEVENT:FALSE
SUMMARY:Resiliency + Sustainability Task Force Meeting
DESCRIPTION:Resiliency + Sustainability Task Force\n\nTHE ADAPTATION AGENDA:\n\nTOPIC: Manny tools and taking action\, Miami Beach leading on.\n\n\n\n\n\nParking\n\nPublic parking is available at the 17th Street Garage. We encourage you to rideshare! You can use the Uride or Ride Freebee apps or Swoop for free transportation to certain locations.
X-ALT-DESC;FMTTYPE=text/html:<div style="text-align: center\;"><span style="font-size:16px\;"><strong><span style="color:#0000CD\;">Resiliency + Sustainability Task Force</span></strong></span></div>\n\n<div style="text-align: center\;"><strong><span style="color:#1F497D\;">THE ADAPTATION AGENDA:</span></strong><br />\n<strong><span style="color:#1F497D\;">TOPIC: Manny tools and taking action\, Miami Beach leading on.</span></strong><br />\n<br />\n<br />\n<strong style="font-family: arial\; font-size: 14px\; text-align: center\;"><u>Parking</u></strong><br style="font-family: arial\; font-size: 14px\; text-align: center\;" />\n<span style="font-family: arial\; font-size: 14px\; text-align: center\;">Public parking is available at the 17th Street Garage. We encourage you to rideshare! You can use the&nbsp\;</span><strong style="font-family: arial\; font-size: 14px\; text-align: center\;"><span style="color: rgb(0\, 0\, 205)\;">Uride&nbsp\;</span></strong><span style="font-family: arial\; font-size: 14px\; text-align: center\;">or&nbsp\;</span><strong style="font-family: arial\; font-size: 14px\; text-align: center\;"><span style="color: rgb(0\, 0\, 205)\;">Ride Freebee</span></strong><span style="font-family: arial\; font-size: 14px\; text-align: center\;">&nbsp\;apps or&nbsp\;</span><strong style="font-family: arial\; font-size: 14px\; text-align: center\;"><span style="color: rgb(0\, 0\, 205)\;">Swoop&nbsp\;</span></strong><span style="font-family: arial\; font-size: 14px\; text-align: center\;">for free transportation to certain locations.</span></div>\n\n<div>&nbsp\;</div>\n
LOCATION:Miami Beach Chamber Boardroom 1920 Meridian Avenue\, 3rd Floor Miami Beach FL 3313
UID:e.166.47538
SEQUENCE:3
DTSTAMP:20260423T061922Z
URL:https://business.miamibeachchamber.com/events/details/resiliency-sustainability-task-force-meeting-47538
END:VEVENT

END:VCALENDAR
