BEGIN:VCALENDAR
VERSION:2.0
PRODID:-//ChamberMaster//Event Calendar 2.0//EN
METHOD:PUBLISH
X-PUBLISHED-TTL:P3D
REFRESH-INTERVAL:P3D
CALSCALE:GREGORIAN
BEGIN:VEVENT
DTSTART:20191028T200000Z
DTEND:20191028T213000Z
X-MICROSOFT-CDO-ALLDAYEVENT:FALSE
SUMMARY:Resiliency + Sustainability Task Force Meeting
DESCRIPTION:Resiliency + Sustainability Task Force\n\nOCTOBER MEETING\n\n\n\n\n\n\n\nThe task force will focus on enhancing dialogue between city government\, Miami Beach citizens and Chamber leadership on the topic of sustainability and resiliency. Through education\, risk analysis\, economic considerations\, insurance risks\, consideration of new technologies and local contexts\, the committee seeks solutions with the objective of framing a well balanced process that is ongoing and will continue to address challenges to the Coastal community of Miami Beach and its government\, citizens and to the business community.  The task force will formulate a more consistent platform for dialogue on the important topics related to sustainability and resiliency and follow the 100 Resilient Cities Rockefeller Foundation initiative\, as it explores the following four dimensions to sustainability and resilience\; Health & Wellbeing\; Economy & Society\; Infrastructure & Environment\; and Leadership & Strategy.
X-ALT-DESC;FMTTYPE=text/html:Resiliency + Sustainability Task Force<br />\nOCTOBER MEETING<br />\n<br />\n<br />\n<br />\nThe task force will focus on enhancing dialogue between city government\, Miami Beach citizens and Chamber leadership on the topic of sustainability and resiliency. Through education\, risk analysis\, economic considerations\, insurance risks\, consideration of new technologies and local contexts\, the committee seeks solutions with the objective of framing a well balanced process that is ongoing and will continue to address challenges to the Coastal community of Miami Beach and its government\, citizens and to the business community.&nbsp\; The task force will formulate a more consistent platform for dialogue on the important topics related to sustainability and resiliency and follow the 100 Resilient Cities Rockefeller Foundation initiative\, as it explores the following four dimensions to sustainability and resilience\; Health &amp\; Wellbeing\; Economy &amp\; Society\; Infrastructure &amp\; Environment\; and Leadership &amp\; Strategy.
LOCATION:Miami Beach Chamber Boardroom 1920 Meridian Avenue\, 3rd Floor Miami Beach FL 3313
UID:e.166.44049
SEQUENCE:3
DTSTAMP:20260423T103002Z
URL:https://business.miamibeachchamber.com/events/details/resiliency-sustainability-task-force-meeting-44049
END:VEVENT

END:VCALENDAR
