BEGIN:VCALENDAR
VERSION:2.0
PRODID:-//ChamberMaster//Event Calendar 2.0//EN
METHOD:PUBLISH
X-PUBLISHED-TTL:P3D
REFRESH-INTERVAL:P3D
CALSCALE:GREGORIAN
BEGIN:VEVENT
DTSTART:20190923T200000Z
DTEND:20190923T213000Z
X-MICROSOFT-CDO-ALLDAYEVENT:FALSE
SUMMARY:Resiliency + Sustainability Task Force Meeting
DESCRIPTION:Resiliency + Sustainability Task Force\n\nSEPTEMBER MEETING\n\n\n\n"Water Quality and South Florida Coastal Waters"\n\n\n\nHenry O. Briceno | FIU\, Institute of Water and Environment UNESCO Chair on Sustainable Water Security\n\n\n\nThe task force will focus on enhancing dialogue between city government\, Miami Beach citizens and Chamber leadership on the topic of sustainability and resiliency. Through education\, risk analysis\, economic considerations\, insurance risks\, consideration of new technologies and local contexts\, the committee seeks solutions with the objective of framing a well balanced process that is ongoing and will continue to address challenges to the Coastal community of Miami Beach and its government\, citizens and to the business community.  The task force will formulate a more consistent platform for dialogue on the important topics related to sustainability and resiliency and follow the 100 Resilient Cities Rockefeller Foundation initiative\, as it explores the following four dimensions to sustainability and resilience\; Health & Wellbeing\; Economy & Society\; Infrastructure & Environment\; and Leadership & Strategy.
X-ALT-DESC;FMTTYPE=text/html:Resiliency + Sustainability Task Force<br />\nSEPTEMBER MEETING<br />\n<br />\n&quot\;Water Quality and South Florida Coastal Waters&quot\;<br />\n<br />\nHenry O. Briceno | FIU\, Institute of Water and Environment UNESCO Chair on Sustainable Water Security<br />\n<br />\nThe task force will focus on enhancing dialogue between city government\, Miami Beach citizens and Chamber leadership on the topic of sustainability and resiliency. Through education\, risk analysis\, economic considerations\, insurance risks\, consideration of new technologies and local contexts\, the committee seeks solutions with the objective of framing a well balanced process that is ongoing and will continue to address challenges to the Coastal community of Miami Beach and its government\, citizens and to the business community.&nbsp\; The task force will formulate a more consistent platform for dialogue on the important topics related to sustainability and resiliency and follow the 100 Resilient Cities Rockefeller Foundation initiative\, as it explores the following four dimensions to sustainability and resilience\; Health &amp\; Wellbeing\; Economy &amp\; Society\; Infrastructure &amp\; Environment\; and Leadership &amp\; Strategy.
LOCATION:Miami Beach Chamber Boardroom 1920 Meridian Avenue\, 3rd Floor Miami Beach FL 3313
UID:e.166.43341
SEQUENCE:3
DTSTAMP:20260423T084926Z
URL:https://business.miamibeachchamber.com/events/details/resiliency-sustainability-task-force-meeting-43341
END:VEVENT

END:VCALENDAR
