BEGIN:VCALENDAR
VERSION:2.0
PRODID:-//ChamberMaster//Event Calendar 2.0//EN
METHOD:PUBLISH
X-PUBLISHED-TTL:P3D
REFRESH-INTERVAL:P3D
CALSCALE:GREGORIAN
BEGIN:VEVENT
DTSTART:20190419T130000Z
DTEND:20190419T140000Z
X-MICROSOFT-CDO-ALLDAYEVENT:FALSE
SUMMARY:RESCHEDULED FOR APRIL 26 COFFEE WITH THE CHAMBER - BRG Beyond Realty Group
DESCRIPTION:COFFEE WITH THE CHAMBER\n\n\n\nat\n\n\n\nBRG\n\nBeyond Realty Group\n\n605 Lincoln RD\, Suite 302 Miami Beach\, FL 33139\n\n\n\nFriday\, April 19\, 2019\n\n9:00 AM -10:00 AM\n\n\n\nCoffee\, conversation and networking with fellow members and chamber leadership.\n\n\n\n \nABOUT BRG \n\nBeyond Realty Group has been established as a multidisciplinary investment and development company that specializes in luxury real estate\, custom home design & construction\, and contributes to the development of diverse communities around the world.
X-ALT-DESC;FMTTYPE=text/html:<div>\n<div>\n<div style="text-align: center\;"><span style="font-size: 16px"><span style="font-family: arial"><span style="color: #000080"><strong>COFFEE WITH THE CHAMBER</strong><br />\n<br />\nat<br />\n<br />\n<span style="font-size:18px\;"><strong>BRG<br />\nBeyond Realty Group</strong></span><br />\n605 Lincoln RD\, Suite 302 Miami Beach\, FL 33139<br />\n<br />\n<span style="font-size:18px\;"><strong>Friday\, April 19\, 2019</strong></span><br />\n9:00 AM -10:00 AM<br />\n<br />\nCoffee\, conversation and networking with fellow members and chamber leadership.</span></span></span><br />\n<br />\n&nbsp\;\n<h1 style="box-sizing: border-box\; margin: 0px\; padding: 0px 0px 10px\; border: 0px\; outline: 0px\; background-image: initial\; background-position: 0px 0px\; background-size: initial\; background-repeat: initial\; background-attachment: initial\; background-origin: initial\; background-clip: initial\; font-size: 31px\; vertical-align: baseline\; text-size-adjust: 100%\; line-height: 1em\; font-family: Anton\, sans-serif\; letter-spacing: 2px\; color: rgb(73\, 197\, 177) !important\;">ABOUT BRG&nbsp\;</h1>\n\n<p style="box-sizing: border-box\; margin: 0px\; padding: 0px 0px 1em\; border: 0px\; outline: 0px\; background-image: initial\; background-position: 0px 0px\; background-size: initial\; background-repeat: initial\; background-attachment: initial\; background-origin: initial\; background-clip: initial\; font-size: 14px\; vertical-align: baseline\; text-size-adjust: 100%\; color: rgb(0\, 0\, 0)\; font-family: &quot\;Droid Sans&quot\;\, Helvetica\, Arial\, Lucida\, sans-serif\;">Beyond Realty Group has been established as a multidisciplinary investment and development company that specializes in luxury real estate\, custom home design &amp\; construction\, and contributes to the development of diverse communities around the world.</p>\n<br />\n&nbsp\;</div>\n\n<p class="MsoNormal" style="margin: 0in 0in 0pt">&nbsp\;</p>\n\n<p class="MsoNormal" style="margin: 0in 0in 0pt">&nbsp\;</p>\n\n<p class="MsoNormal" style="margin: 0in 0in 0pt">&nbsp\;</p>\n\n<p class="MsoNormal" style="margin: 0in 0in 0pt">&nbsp\;</p>\n</div>\n</div>\n\n<div><span style="font-size: 14px"><span style="font-size: 16px"><span style="font-family: arial"><span style="color: #000080"><span _fck_bookmark="1" style="display: none">&nbsp\;</span></span></span></span></span></div>\n
LOCATION:THIS EVENT HAS BEEN RESCHEDULED BRG Beyond Realty Group 605 Lincoln Rd\, Suite 302 Miami Beach\, FL 33139
UID:e.166.41418
SEQUENCE:3
DTSTAMP:20260422T114722Z
URL:https://business.miamibeachchamber.com/events/details/rescheduled-for-april-26-coffee-with-the-chamber-brg-beyond-realty-group-41418
END:VEVENT

END:VCALENDAR
