BEGIN:VCALENDAR
VERSION:2.0
PRODID:-//ChamberMaster//Event Calendar 2.0//EN
METHOD:PUBLISH
X-PUBLISHED-TTL:P3D
REFRESH-INTERVAL:P3D
CALSCALE:GREGORIAN
BEGIN:VEVENT
DTSTART:20191020T170000Z
DTEND:20191020T190000Z
X-MICROSOFT-CDO-ALLDAYEVENT:FALSE
SUMMARY:Relax\, Renew\, Create - Mindful Block Printing Workshop with The Onikas
DESCRIPTION:Join Veronica + Jonnyka of The Onikas and visionary artist Sharon Aluma for an exclusive Art and Creativity event in the Garden\n\nUsing Onikas original blockprint symbols\, connect with your creative force and print your own love and fabric panels. You will take home hand-printed stationary and a hand- printed table runner or banner. You can also get creative- bring your own fabric\, up cycle and make some textile art! We will imbue meaning into the paper and textiles\, mindfully imprinting our wishes and intentions for the season. We will close our workshop with a mediation and sound healing session so you can leave renewed and tapped into your creativity.
X-ALT-DESC;FMTTYPE=text/html:<p>Join Veronica + Jonnyka of The Onikas and visionary artist Sharon Aluma for an exclusive Art and Creativity event in the Garden</p>\n\n<p>Using Onikas original blockprint symbols\, connect with your creative force and print your own love and fabric panels. You will take home hand-printed stationary and a hand- printed table runner or banner. You can also get creative- bring your own fabric\, up cycle and make some textile art! We will imbue meaning into the paper and textiles\, mindfully imprinting our wishes and intentions for the season. We will close our workshop with a mediation and sound healing session so you can leave renewed and tapped into your creativity.</p>\n
LOCATION:Miami Beach Botanical Garden 2000 Convention Center Dr. Miami Beach\, FL 33139 305.673.7256
UID:e.166.43948
SEQUENCE:3
DTSTAMP:20260423T103125Z
URL:https://business.miamibeachchamber.com/events/details/relax-renew-create-mindful-block-printing-workshop-with-the-onikas-43948
END:VEVENT

END:VCALENDAR
