BEGIN:VCALENDAR
VERSION:2.0
PRODID:-//ChamberMaster//Event Calendar 2.0//EN
METHOD:PUBLISH
X-PUBLISHED-TTL:P3D
REFRESH-INTERVAL:P3D
CALSCALE:GREGORIAN
BEGIN:VEVENT
DTSTART:20200102T003000Z
DTEND:20200102T013000Z
X-MICROSOFT-CDO-ALLDAYEVENT:FALSE
SUMMARY:Reiki Healing Circle: By Donation with Pilar \,Chris & Shakti
DESCRIPTION:Reiki Healing Circle :: By Donation\n\nFirst Wednesday of Every Month 7:30-8:30pm\n\n\n\nIn the Reiki healing circle\, there will be a brief introduction\, guided meditation\, sound bath + healing session where we will feel a beautiful energy flow\n\n\n\nReiki "universal life force energy" is an ancient Japanese method of working with spiritual energy\, intention\, and intuition. This concept is similar to other terms and concepts such as chi\, prana\, ether\, kundalini\, and spirit. This powerful healing modality uses a process called attunement\, where the master focuses on opening student's energy system to the flow of divine energy\, using pure and loving intention and hands to concentrate the divine energy for the purpose of healing. \n\n\n\nReiki is a therapy to balance chakra energy and helps to cleanse and balance the aura/biofield. \n\nSome people say that Reiki healing feels like massaging of the soul on the inside and bathing in the light\, however\, each person's experience is individual. It is in trusting higher consciousness that one is able to clear the mind\, open the heart and connect deeply to the truth of who you are. \n\n\n\nThe circle is facilitated every month by Reiki Masters\n\nPiLi PoLan a \, Chris Maanas and Shakti Reyna\n\n\n\n$10 Minimum Donation\n\ncash only  \n\n\n\nWe are here to love + heal!
X-ALT-DESC;FMTTYPE=text/html:<span style="background-color:rgb(255\, 255\, 255)\; color:rgb(29\, 33\, 41)\; font-family:helvetica\,arial\,sans-serif\; font-size:14px">Reiki Healing Circle :: By Donation</span><br />\n<span style="background-color:rgb(255\, 255\, 255)\; color:rgb(29\, 33\, 41)\; font-family:helvetica\,arial\,sans-serif\; font-size:14px">First Wednesday of Every Month 7:30-8:30pm</span><br />\n<br />\n<span style="background-color:rgb(255\, 255\, 255)\; color:rgb(29\, 33\, 41)\; font-family:helvetica\,arial\,sans-serif\; font-size:14px">In the Reiki healing circle\, there will be a brief introduction\, guided meditation\, sound bath + healing session where we will feel a beautiful energy flow</span><br />\n<br />\n<span style="background-color:rgb(255\, 255\, 255)\; color:rgb(29\, 33\, 41)\; font-family:helvetica\,arial\,sans-serif\; font-size:14px">Reiki &quot\;universal life force energy&quot\; is an ancient Japanese method of working with spiritual energy\, intention\, and intuition. This concept is similar to other terms and concepts such as chi\, prana\, ether\, kundalini\, and spirit. This powerful healing modality uses a process called attunement\, where the master focuses on opening student&#39\;s energy system to the flow of divine energy\, using pure and loving intention and hands to concentrate the divine energy for the purpose of healing. </span><br />\n<br />\n<span style="background-color:rgb(255\, 255\, 255)\; color:rgb(29\, 33\, 41)\; font-family:helvetica\,arial\,sans-serif\; font-size:14px">Reiki is a therapy to balance chakra energy and helps to cleanse and balance the aura/biofield. </span><br />\n<span style="background-color:rgb(255\, 255\, 255)\; color:rgb(29\, 33\, 41)\; font-family:helvetica\,arial\,sans-serif\; font-size:14px">Some people say that Reiki healing feels like massaging of the soul on the inside and bathing in the light\, however\, each person&#39\;s experience is individual. It is in trusting higher consciousness that one is able to clear the mind\, open the heart and connect deeply to the truth of who you are. </span><br />\n<br />\n<span style="background-color:rgb(255\, 255\, 255)\; color:rgb(29\, 33\, 41)\; font-family:helvetica\,arial\,sans-serif\; font-size:14px">The circle is facilitated every month by Reiki Masters</span><br />\n<a href="https://www.facebook.com/pilar.polania.33" style="color: rgb(56\, 88\, 152)\; cursor: pointer\; text-decoration-line: none\; font-family: Helvetica\, Arial\, sans-serif\; font-size: 14px\; white-space: pre-wrap\; background-color: rgb(255\, 255\, 255)\;" target="_blank">PiLi PoLan&iacute\;a</a><span style="background-color:rgb(255\, 255\, 255)\; color:rgb(29\, 33\, 41)\; font-family:helvetica\,arial\,sans-serif\; font-size:14px"> \, </span><a href="https://www.facebook.com/chris.ondarocks" style="color: rgb(56\, 88\, 152)\; cursor: pointer\; text-decoration-line: none\; font-family: Helvetica\, Arial\, sans-serif\; font-size: 14px\; white-space: pre-wrap\; background-color: rgb(255\, 255\, 255)\;" target="_blank">Chris Maanas</a><span style="background-color:rgb(255\, 255\, 255)\; color:rgb(29\, 33\, 41)\; font-family:helvetica\,arial\,sans-serif\; font-size:14px"> and </span><a href="https://www.facebook.com/malyshka31" style="color: rgb(56\, 88\, 152)\; cursor: pointer\; text-decoration-line: none\; font-family: Helvetica\, Arial\, sans-serif\; font-size: 14px\; white-space: pre-wrap\; background-color: rgb(255\, 255\, 255)\;" target="_blank">Shakti Reyna</a><br />\n<br />\n<span style="background-color:rgb(255\, 255\, 255)\; color:rgb(29\, 33\, 41)\; font-family:helvetica\,arial\,sans-serif\; font-size:14px">$10 Minimum Donation</span><br />\n<span style="background-color:rgb(255\, 255\, 255)\; color:rgb(29\, 33\, 41)\; font-family:helvetica\,arial\,sans-serif\; font-size:14px">cash only &hearts\;</span><br />\n<br />\n<span style="background-color:rgb(255\, 255\, 255)\; color:rgb(29\, 33\, 41)\; font-family:helvetica\,arial\,sans-serif\; font-size:14px">We are here to love + heal!</span>
LOCATION:Synergy Yoga Center 844 Alton Road\, 2nd Floor\, Miami Beach\, Florida 33139
UID:e.166.47532
SEQUENCE:3
DTSTAMP:20260423T062312Z
URL:https://business.miamibeachchamber.com/events/details/reiki-healing-circle-by-donation-with-pilar-chris-shakti-01-01-2020-47532
END:VEVENT

END:VCALENDAR
