BEGIN:VCALENDAR
VERSION:2.0
PRODID:-//ChamberMaster//Event Calendar 2.0//EN
METHOD:PUBLISH
X-PUBLISHED-TTL:P3D
REFRESH-INTERVAL:P3D
CALSCALE:GREGORIAN
BEGIN:VEVENT
DTSTART:20190917T140000Z
DTEND:20190917T160000Z
X-MICROSOFT-CDO-ALLDAYEVENT:FALSE
SUMMARY:Realtor Property Resource (RPR) - an alternative CMA took to help you with Pricing Objections @ Keller Williams Miami Beach
DESCRIPTION:RPR is an Alternative CMA Tool to help you with Pricing Objections!\n\nHere is information about (RPR) Realtor Property Resource:\n\n\n\nAccount Activation\n\nProperty research\, understanding property history and details\n\nComparables and adjustments\n\nPrepare CMA report\n\nMapping\, heat maps and points of interest\n\nNeighborhood demographics report\n\nSchool report\n\nMarket activity report\n\nIntro to RPR Mobile
X-ALT-DESC;FMTTYPE=text/html:<span style="color:rgb(29\, 33\, 41)\; font-family:helvetica\,arial\,sans-serif\; font-size:14px">RPR is an Alternative CMA Tool to help you with Pricing Objections!</span><br />\n<span style="color:rgb(29\, 33\, 41)\; font-family:helvetica\,arial\,sans-serif\; font-size:14px">Here is information about (RPR) Realtor Property Resource:</span><br />\n<br />\n<span style="color:rgb(29\, 33\, 41)\; font-family:helvetica\,arial\,sans-serif\; font-size:14px">Account Activation</span><br />\n<span style="color:rgb(29\, 33\, 41)\; font-family:helvetica\,arial\,sans-serif\; font-size:14px">Property research\, understanding property history and details</span><br />\n<span style="color:rgb(29\, 33\, 41)\; font-family:helvetica\,arial\,sans-serif\; font-size:14px">Comparables and adjustments</span><br />\n<span style="color:rgb(29\, 33\, 41)\; font-family:helvetica\,arial\,sans-serif\; font-size:14px">Prepare CMA report</span><br />\n<span style="color:rgb(29\, 33\, 41)\; font-family:helvetica\,arial\,sans-serif\; font-size:14px">Mapping\, heat maps and points of interest</span><br />\n<span style="color:rgb(29\, 33\, 41)\; font-family:helvetica\,arial\,sans-serif\; font-size:14px">Neighborhood demographics report</span><br />\n<span style="color:rgb(29\, 33\, 41)\; font-family:helvetica\,arial\,sans-serif\; font-size:14px">School report</span><br />\n<span style="color:rgb(29\, 33\, 41)\; font-family:helvetica\,arial\,sans-serif\; font-size:14px">Market activity report</span><br />\n<span style="color:rgb(29\, 33\, 41)\; font-family:helvetica\,arial\,sans-serif\; font-size:14px">Intro to RPR Mobile</span>
LOCATION:Keller Williams Miami Beach 1680 Meridian Ave\, Suite 200 Miami Beach\, FL 33139
UID:e.166.43351
SEQUENCE:3
DTSTAMP:20260423T085814Z
URL:https://business.miamibeachchamber.com/events/details/realtor-property-resource-rpr-an-alternative-cma-took-to-help-you-with-pricing-objections-keller-williams-miami-beach-43351
END:VEVENT

END:VCALENDAR
