BEGIN:VCALENDAR
VERSION:2.0
PRODID:-//ChamberMaster//Event Calendar 2.0//EN
METHOD:PUBLISH
X-PUBLISHED-TTL:P3D
REFRESH-INTERVAL:P3D
CALSCALE:GREGORIAN
BEGIN:VEVENT
DTSTART:20191008T120000Z
DTEND:20191008T130000Z
X-MICROSOFT-CDO-ALLDAYEVENT:FALSE
SUMMARY:Real Estate Council Monthly Meeting @ Shh
DESCRIPTION:On behalf of Council Chair Mirielle Enlow\, Keller Williams\, please join us for our monthly Real Estate Council meeting.\n\n \n\nCouncil Chair Mirielle Enlow and our active\, sitting Council members will have exciting and helpful news to share about the local real estate and related industries.\n\n\n\n\n\nhosted at Shh...\n\n\n\nComplimentary Coffee provided by Shh... Breakfast available for purchase.\n\n\n\n \n\n\n\nSpeakers\n\n\n\nCheryl Jacobs\, Executive Vice President |  AIA Miami and the Miami Center for Architecture & Design\n\n\n\nMarta Viciedo\, Founding Principal | Urban Impact Lab\n\n\n\nSuria Yaffar\, Assoc AIA | Zyscovich Architects\n\n\n\nPresentation: Active Design Miami Beach\n\n \n\n\n\nReal Estate Council Mission\n\n\nThe mission of the Real Estate Council is to act as a resource to members of the Miami Beach Chamber of Commerce who serve the local real estate community.  We will support our members by sharing expertise\, offering guidance and knowledge\, exploring new educational opportunities and facilitating communication within the industry and community.  Miami Beach real estate faces unique challenges and The Council provides the resources to enable development of unique solutions.  By sharing resources everyone in our industry and community achieves more.
X-ALT-DESC;FMTTYPE=text/html:<div>On behalf of Council Chair <strong>Mirielle Enlow\, Keller Williams</strong>\, please join us for our monthly Real Estate Council meeting.</div>\n\n<div>&nbsp\;</div>\n\n<div>Council Chair Mirielle Enlow and our active\, sitting Council members will have exciting and helpful news to share about the local real estate and related industries.<br />\n<br />\n<br />\nhosted at&nbsp\;<a href="https://shhmiami.com/" style="font-family: arial\; font-size: 18px\;">Shh...</a><br />\n<br />\nComplimentary Coffee provided by <a href="https://shhmiami.com/">Shh...</a>&nbsp\;Breakfast available for purchase.</div>\n\n<div style="text-align: center\;"><br />\n&nbsp\;</div>\n\n<div><br />\nSpeakers<br />\n<br />\n<span style="font-size:20px\;"><span style="font-size:18px\;"><strong>Cheryl Jacobs\,</strong> Executive Vice President |&nbsp\;&nbsp\;AIA Miami and the Miami Center for Architecture &amp\; Design<br />\n<br />\n<strong>Marta Viciedo</strong>\, Founding Principal | Urban Impact Lab</span></span><br />\n<br />\n<span style="font-size:20px\;"><span style="font-family:calibri\,sans-serif\;"><strong>Suria Yaffar</strong>\, Assoc AIA |&nbsp\;Zyscovich Architects<br />\n<br />\nPresentation:&nbsp\;</span></span><span style="font-size:18px\;"><span style="font-family:calibri\,sans-serif\;">Active Design Miami Beach</span></span><br />\n&nbsp\;</div>\n\n<div style="text-align: center\;">\n<hr />\n<div style="text-align: left\;"><u><strong>Real Estate Council Mission</strong></u></div>\n</div>\n\n<div>The mission of the Real Estate Council is to act as a resource to members of the Miami Beach Chamber of Commerce who serve the local real estate community.&nbsp\; We will support our members by sharing expertise\, offering guidance and knowledge\, exploring new educational opportunities and facilitating communication within the industry and community.&nbsp\; Miami Beach real estate faces unique challenges and The Council provides the resources to enable development of unique solutions.&nbsp\; By sharing resources everyone in our industry and community achieves more.&nbsp\;</div>\n
LOCATION:Shh Miami 860 Collins Ave\, Miami Beach\, FL 33139
UID:e.166.10049
SEQUENCE:3
DTSTAMP:20260423T103728Z
URL:https://business.miamibeachchamber.com/events/details/real-estate-council-monthly-meeting-shh-10049
END:VEVENT

END:VCALENDAR
