BEGIN:VCALENDAR
VERSION:2.0
PRODID:-//ChamberMaster//Event Calendar 2.0//EN
METHOD:PUBLISH
X-PUBLISHED-TTL:P3D
REFRESH-INTERVAL:P3D
CALSCALE:GREGORIAN
BEGIN:VEVENT
DTSTART:20181211T130000Z
DTEND:20181211T140000Z
X-MICROSOFT-CDO-ALLDAYEVENT:FALSE
SUMMARY:Real Estate Council Monthly Meeting @ Shelborne
DESCRIPTION:On behalf of Real Estate Council Chair Mirielle Enlow and our active\, sitting Council members please join us at our \n\nMonthly Council Meeting \n\nas we discuss exciting and helpful news about the local real estate and related industries.\n\n\n\nSpeaker\n\nRussell Galbut | Crescent Heights\n\n"Park on Fifth"\n\n\n\nLocation\n\nShelborne South Beach Hotel\n\n1801 Collins Avenue\, Miami Beach FL 33139\n\n\n\nLite breakfast bites to be served.
X-ALT-DESC;FMTTYPE=text/html:<div style="text-align: center\;"><br />\n<br />\n<span style="font-size: 16px\;"><span style="font-family: arial\;"><span style="font-size:14px\;">On behalf of Real Estate Council Chair Mirielle Enlow and our active\, sitting Council members please join us at our </span><br />\n<u><strong>Monthly Council Meeting </strong></u><br />\n<span style="font-size:14px\;">as we discuss&nbsp\;exciting and helpful news&nbsp\;about the local real estate and related industries.</span><br />\n<br />\n<u><strong>Speaker</strong></u><br />\nRussell Galbut | <em>Crescent Heights<br />\n<a href="http://vimeo.com/299628017/84ae50e6ec">&quot\;Park on Fifth&quot\;</a></em><br />\n<br />\n<u><strong>Location</strong></u><br />\nShelborne South Beach Hotel<br />\n<span style="font-size:14px\;">1801 Collins&nbsp\;Avenue\, Miami Beach FL 33139</span></span></span><br />\n<br />\n<em><span style="font-size:16px\;">Lite breakfast bites to be served.</span></em></div>\n
LOCATION:Shelborne South Beach Hotel 1801 Collins Avenue\, Miami Beach FL 33139
UID:e.166.10039
SEQUENCE:3
DTSTAMP:20260421T224026Z
URL:https://business.miamibeachchamber.com/events/details/real-estate-council-monthly-meeting-shelborne-10039
END:VEVENT

END:VCALENDAR
