BEGIN:VCALENDAR
VERSION:2.0
PRODID:-//ChamberMaster//Event Calendar 2.0//EN
METHOD:PUBLISH
X-PUBLISHED-TTL:P3D
REFRESH-INTERVAL:P3D
CALSCALE:GREGORIAN
BEGIN:VEVENT
DTSTART:20181113T130000Z
DTEND:20181113T140000Z
X-MICROSOFT-CDO-ALLDAYEVENT:FALSE
SUMMARY:Real Estate Council Monthly Meeting at T-Mobile
DESCRIPTION:Please join us for our monthly Real Estate Council meeting on the second Tuesday of every month from 8:00 am - 9:00 am.\n\n\n\nCouncil Chair Mirielle Enlow (Keller Williams) and our active\, sitting Council members will have exciting and helpful news to share about the local real estate and related industries.
X-ALT-DESC;FMTTYPE=text/html:<span style="font-size: 16px\;"><span style="font-family: arial\;">Please join us for our monthly Real Estate Council meeting on the second Tuesday of every month from 8:00 am - 9:00 am.<br />\n<br />\nCouncil Chair Mirielle Enlow (Keller Williams) and our active\, sitting Council members will have exciting and helpful news to share about the local real estate and related industries.</span></span><br />\n&nbsp\;
LOCATION:T-mobile on Lincoln Road 738 Lincoln Rd\, Miami Beach\, FL 33139
UID:e.166.10038
SEQUENCE:3
DTSTAMP:20260422T001848Z
URL:https://business.miamibeachchamber.com/events/details/real-estate-council-monthly-meeting-at-t-mobile-10038
END:VEVENT

END:VCALENDAR
