BEGIN:VCALENDAR
VERSION:2.0
PRODID:-//ChamberMaster//Event Calendar 2.0//EN
METHOD:PUBLISH
X-PUBLISHED-TTL:P3D
REFRESH-INTERVAL:P3D
CALSCALE:GREGORIAN
BEGIN:VEVENT
DTSTART:20191013T190000Z
DTEND:20191013T200000Z
X-MICROSOFT-CDO-ALLDAYEVENT:FALSE
SUMMARY:Pumpkin Carving Class At The Lincoln Eatery
DESCRIPTION:Want to level up your carving skills? Learn how to carve the perfect pumpkin with expert fruit carver Roger Epres of TYO Sushi on October 13 at 3 p.m. From elaborate designs to simple jack-o-lanterns\, guests will be able to take their creations and tools home to show of their skills all season long! Tickets available in the link below!
X-ALT-DESC;FMTTYPE=text/html:<span style="color:rgb(28\, 30\, 33)\; font-family:system-ui\,-apple-system\,system-ui\,.sfnstext-regular\,sans-serif\; font-size:14px">Want to level up your carving skills? Learn how to carve the perfect pumpkin with expert fruit carver Roger Epres of TYO Sushi on October 13 at 3 p.m. From elaborate designs to simple jack-o-lanterns\, guests will be able to take their creations and tools home to show of their skills all season long! Tickets available in the link below!</span>
LOCATION:The Lincoln Eatery
UID:e.166.43903
SEQUENCE:3
DTSTAMP:20260423T103238Z
URL:https://business.miamibeachchamber.com/events/details/pumpkin-carving-class-at-the-lincoln-eatery-43903
END:VEVENT

END:VCALENDAR
