BEGIN:VCALENDAR
VERSION:2.0
PRODID:-//ChamberMaster//Event Calendar 2.0//EN
METHOD:PUBLISH
X-PUBLISHED-TTL:P3D
REFRESH-INTERVAL:P3D
CALSCALE:GREGORIAN
BEGIN:VEVENT
DTSTART:20191031T133000Z
DTEND:20191031T153000Z
X-MICROSOFT-CDO-ALLDAYEVENT:FALSE
SUMMARY:Pillar Perk: U.S. Coast Guard Tour
DESCRIPTION:Join the Miami Beach Chamber Pillar Trustees for a special private tour of the U.S. Coast Guard.
X-ALT-DESC;FMTTYPE=text/html:Join the Miami Beach Chamber Pillar Trustees for a special private tour of the U.S. Coast Guard.
LOCATION:Coast Guard Sector Miami 100 MacArthur Causeway\, Miami Beach\, FL 33139
UID:e.166.43904
SEQUENCE:3
DTSTAMP:20260423T103119Z
URL:https://business.miamibeachchamber.com/events/details/pillar-perk-u-s-coast-guard-tour-43904
END:VEVENT

END:VCALENDAR
