BEGIN:VCALENDAR
VERSION:2.0
PRODID:-//ChamberMaster//Event Calendar 2.0//EN
METHOD:PUBLISH
X-PUBLISHED-TTL:P3D
REFRESH-INTERVAL:P3D
CALSCALE:GREGORIAN
BEGIN:VEVENT
DTSTART:20191023T220000Z
DTEND:20191024T000000Z
X-MICROSOFT-CDO-ALLDAYEVENT:FALSE
SUMMARY:Pillar Dinner & Networker @The Deck Island Gardens
DESCRIPTION:Join the Miami Beach Chamber of Commerce Pillar Trustees for a special Pillar Dinner\n\n\n\nhosted by \n\n \n\nChairwoman Elect Robin Jacobs\n\nMiami Beach Cosmetic & Plastic Surgery Center\n\n\n\nat\n\nThe Deck Island Gardens\n \n\n\nMenu\n\nAPPETIZERS\n\nCIGAR ROLL\n\nfried filo dough with feta cheese\, parsley to serve\n\nTHE AEGEAN\n\ntomato\, cucumber\, Kalamata olives\, peppers\, feta cheese\, raw onion\, parsley and extra virgin olive oil\n\nENTREES\n\nPEAR RAVIOLI\n\npear and gorgonzola cheese\, finished with black truffle cream sauce\n\nGRILLED BRANZINO\n\nwith Mediterranean chimichurri\, fresh parsley\, lemon wedge to squeeze\n\nHERB MARINATED LAMB CHOPS\n\nwith fresh oregano and rosemary\, extra virgin olive oil\, homemade fries\n\n \n\nSIDES\n\nCHAR-GRILLED VEGETABLES BASMATI RICE\n\n \n\nDESSERTS\n\nSEASONAL FRUIT PLATTER WHITE CHOCOLATE BREAD PUDDING\n\nBAKLAVA
X-ALT-DESC;FMTTYPE=text/html:<div style="text-align: center\;">Join the Miami Beach Chamber of Commerce Pillar Trustees for a special Pillar Dinner<br />\n<br />\nhosted by&nbsp\;<br />\n&nbsp\;</div>\n\n<div style="text-align: center\;"><span style="font-size:26px\;">Chairwoman Elect Robin Jacobs<br />\n<a href="https://www.miamibeachplasticsurgery.com/">Miami Beach Cosmetic &amp\; Plastic Surgery Center</a></span></div>\n\n<div style="text-align: center\;"><br />\n<span style="font-size:26px\;">at<br />\nThe Deck Island Gardens</span></div>\n&nbsp\;\n\n<hr />\n<div style="text-align: center\;"><span style="font-size:14px\;"><strong><span style="color:#FF0000\;">Menu</span></strong></span></div>\n\n<h1 style="text-align: center\;"><span style="font-size:16px\;">APPETIZERS</span></h1>\n\n<h1 style="text-align: center\;"><span style="font-size:12px\;">CIGAR ROLL</span></h1>\n\n<div style="text-align: center\;"><span style="font-size:12px\;">fried filo dough with feta cheese\, parsley to serve</span></div>\n\n<h1 style="text-align: center\;"><span style="font-size:12px\;">THE AEGEAN</span></h1>\n\n<div style="text-align: center\;"><span style="font-size:12px\;">tomato\, cucumber\, Kalamata olives\, peppers\, feta cheese\, raw onion\, parsley and extra virgin olive oil</span></div>\n\n<h1 style="text-align: center\;"><span style="font-size:16px\;">ENTREES</span></h1>\n\n<h1 style="text-align: center\;"><span style="font-size:12px\;">PEAR RAVIOLI</span></h1>\n\n<div style="text-align: center\;"><span style="font-size:12px\;">pear and gorgonzola cheese\, finished with black truffle cream sauce</span></div>\n\n<h1 style="text-align: center\;"><span style="font-size:12px\;">GRILLED BRANZINO</span></h1>\n\n<div style="text-align: center\;"><span style="font-size:12px\;">with Mediterranean chimichurri\, fresh parsley\, lemon wedge to squeeze</span></div>\n\n<h1 style="text-align: center\;"><span style="font-size:12px\;">HERB MARINATED LAMB CHOPS</span></h1>\n\n<div style="text-align: center\;"><span style="font-size:12px\;">with fresh oregano and rosemary\, extra virgin olive oil\, homemade fries</span><br />\n&nbsp\;</div>\n\n<h1 style="text-align: center\;"><span style="font-size:16px\;">SIDES</span></h1>\n\n<h1 style="text-align: center\;"><span style="font-size:12px\;">CHAR-GRILLED VEGETABLES BASMATI RICE</span></h1>\n\n<h1 style="text-align: center\;">&nbsp\;</h1>\n\n<h1 style="text-align: center\;"><span style="font-size:16px\;">DESSERTS</span></h1>\n\n<h1 style="text-align: center\;"><span style="font-size:12px\;">SEASONAL FRUIT PLATTER WHITE CHOCOLATE BREAD PUDDING<br />\nBAKLAVA</span></h1>\n\n<p style="text-align: center\;">&nbsp\;</p>\n
LOCATION:The Deck at Island Gardens 888 MacArthur Causeway\, Miami\, FL 33132
UID:e.166.43895
SEQUENCE:3
DTSTAMP:20260423T103211Z
URL:https://business.miamibeachchamber.com/events/details/pillar-dinner-networker-the-deck-island-gardens-43895
END:VEVENT

END:VCALENDAR
