BEGIN:VCALENDAR
VERSION:2.0
PRODID:-//ChamberMaster//Event Calendar 2.0//EN
METHOD:PUBLISH
X-PUBLISHED-TTL:P3D
REFRESH-INTERVAL:P3D
CALSCALE:GREGORIAN
BEGIN:VEVENT
DTSTART:20191023T230000Z
DTEND:20191024T030000Z
X-MICROSOFT-CDO-ALLDAYEVENT:FALSE
SUMMARY:Parkinson's Foundation: Night at the Market
DESCRIPTION:Night at the Market will take guests on a unique culinary adventure at Miami's newest food destination\, Lincoln Eatery. Esteemed guests will stroll through the food market and indulge in specialty food and drink created by local and national celebrity chefs and mixologists\, including award-winning chefs Aar n S nchez\, John Mooney\, Stephan Pyles\, Sue Torres and Michael Schwartz! The event will include musical entertainment\, an auction\, and feature special VIP offerings. \n\n \n\nThe event will honor Parkinson's advocates Zarela Martinez\, legendary chef\, cookbook author and television personality\, and Mindy McIlroy\, President of Terranova Corporation and Parkinson's Foundation Board Member.\n\n\n\nThe Parkinson's Foundation makes life better for people with Parkinson's disease by improving care and advancing research toward a cure. In everything we do\, we build on the energy\, experience and passion of our global Parkinson's community.
X-ALT-DESC;FMTTYPE=text/html:<p><span style="font-size:12px"><span style="font-family:verdana"><a href="http://www.parkinson.org/market"><strong><em>Night at the Market</em></strong>&nbsp\;</a>will take guests on a unique culinary adventure at Miami&rsquo\;s newest food destination\,&nbsp\;<strong>Lincoln Eatery</strong>. Esteemed guests will stroll through the food market and indulge in specialty food and drink created by local and national celebrity chefs and mixologists\, including award-winning chefs&nbsp\;<strong>Aar&oacute\;n S&aacute\;nchez</strong>\,&nbsp\;<strong>John Mooney</strong>\,&nbsp\;<strong>Stephan Pyles</strong>\,&nbsp\;<strong>Sue Torres</strong>&nbsp\;and&nbsp\;<strong>Michael Schwartz</strong>!&nbsp\;The event will include musical entertainment\, an auction\, and feature special VIP offerings.&nbsp\;<br />\n&nbsp\;<br />\n<span style="color:black">The event will honor Parkinson&rsquo\;s advocates&nbsp\;</span><strong><span style="color:black">Zarela Martinez</span></strong><span style="color:black">\, legendary chef\, cookbook author and television personality\, and&nbsp\;</span><strong>Mindy McIlroy</strong>\, President of Terranova Corporation and Parkinson&rsquo\;s Foundation Board Member.<br />\n<br />\n<em>The Parkinson&#39\;s Foundation makes life better for people with Parkinson&#39\;s disease by improving care and advancing research toward a cure. In everything we do\, we build on the energy\, experience and passion of our global Parkinson&#39\;s community.&nbsp\;</em></span></span><br />\n&nbsp\;</p>\n
LOCATION:
UID:e.166.43291
SEQUENCE:3
DTSTAMP:20260423T103543Z
URL:https://business.miamibeachchamber.com/events/details/parkinson-s-foundation-night-at-the-market-43291
END:VEVENT

END:VCALENDAR
