BEGIN:VCALENDAR
VERSION:2.0
PRODID:-//ChamberMaster//Event Calendar 2.0//EN
METHOD:PUBLISH
X-PUBLISHED-TTL:P3D
REFRESH-INTERVAL:P3D
CALSCALE:GREGORIAN
BEGIN:VEVENT
DTSTART:20191016T220000Z
DTEND:20191017T000000Z
X-MICROSOFT-CDO-ALLDAYEVENT:FALSE
SUMMARY:October Dinner & Networker
DESCRIPTION:Join us  for our monthly dinner & networker at\n\n\n\nA Fish Called Avalon\n\n\n\nNetworking  | 6:00 PM - 7:00 PM \n\n\n\nDinner | 7:00 PM - 8:00 PM\n\n \n\n\n\nMENU\n\n\n\nFirst Course \n\n \n\nChoice of \n\n \n\nAvalon Chopped Salad \n\nRomaine\, Tomato\, Cucumber\, Carrots\, Red Cabbage\, Garbanzo\,\n\nBasil\, Crumbled Gorgonzola\, White Balsamic Vinaigrette \n\n \n\nWild Mushroom Soup \n\nCr me Fraiche\, Portabella and Shiitake Mushrooms \n\n \n\nBang Bang Shrimp \n\n2 Jumbo Shrimps\, Turmeric Curry Spice Mixture Mint Yogurt Sauce\, Cucumber Pepper Relish \n\n \n\n \n\nEntr e\n\n \n\nChoice of \n\n \n\nSaffron Seafood Risotto \n\nCreamy Arborio Rice\, Scallop\, Shrimp\, Calamari\, Fresh Fish\, Roasted Tomatoes\, Herbs \n\n \n\nFree Range Citrus Chicken \n\nTruffle Sweet Potato Mash\, Asian Baby Beans Gorgonzola Beurre Blanc \n\n \n\nMacadamia Crusted Snapper \n\nSpinach Risotto\, Raspberry Beaujolais Beurre Blanc \n\n \n\nDessert\n\n \n\nChoice of \n\n \n\nChef Kal's Award-Winning Pecan Crusted Key Lime Pie\n\n \n\nMango & Raspberry Sorbet\n\n \n\n\n\nAbout A Fish Called Avalon\n\nLOCATION\n\nAt 700 Ocean Drive in Miami Beach\, A Fish Called Avalon is perfect for romantic dinners\, a family affair\, or a night out on the town. Located in the iconic Avalon Hotel the setting offers an authentic\, sophisticated South Beach experience. For over 30 years diners have enjoyed the Historic Art Deco setting and the creative menu.\n\nLIVE MUSIC\n\nA Latin-Caribbean duo entertains every night on the front porch. "We just loved this place. The food was delicious\, the service was fun and attentive\, and the music was a perfect touch." - CitySearch Member\n\nHISTORY\n\nLocated in Miami Beach's historic Art Deco District\, we are proud to have hosted a long list of celebrities including Harrison Ford\, Emilio and Gloria Estefan\, and Guy Ritchie among others.\n\n\n\nThis celebrated South Beach landmark\, has served as a backdrop for many films and photo shoots including Scarface\, Miami Vice\, Sidney Pollack's film Random Hearts\, Old Dogs\, with John Travolta and Robin Williams\, and most recently Bad Boys 3 with Will Smith.\n\n\n\nThe 1955 Oldsmobile convertible parked in front of the restaurant stands as one of the most-photographed cars in America.
X-ALT-DESC;FMTTYPE=text/html:Join us&nbsp\; for our monthly dinner &amp\; networker at<br />\n<br />\n<span style="font-size:20px\;">A Fish Called Avalon</span><br />\n<br />\nNetworking&nbsp\; | 6:00 PM - 7:00 PM&nbsp\;<br />\n<br />\nDinner | 7:00 PM - 8:00 PM<br />\n&nbsp\;\n<hr />\n<div style="text-align: center\;"><br />\n<strong>MENU<br />\n<br />\n<u><span style="font-size:11.0pt\;">First Course </span></u></strong><br />\n&nbsp\;<br />\n<em><span style="font-size:11.0pt\;">Choice of </span></em><br />\n&nbsp\;<br />\n<strong><span style="font-size:10.0pt\;">Avalon Chopped Salad </span></strong><br />\n<span style="font-size:10.0pt\;">Romaine\, Tomato\, Cucumber\, Carrots\, Red Cabbage\, Garbanzo\,</span><br />\n<span style="font-size:10.0pt\;">Basil\, Crumbled Gorgonzola\, White Balsamic Vinaigrette </span><br />\n&nbsp\;<br />\n<strong><span style="font-size:10.0pt\;">Wild Mushroom Soup </span></strong><br />\n<span style="font-size:10.0pt\;">Cr&egrave\;me Fraiche\, Portabella and Shiitake Mushrooms </span><br />\n&nbsp\;<br />\n<strong><span style="font-size:10.0pt\;">Bang Bang Shrimp </span></strong><br />\n<span style="font-size:10.0pt\;">2 Jumbo Shrimps\, Turmeric Curry Spice Mixture Mint Yogurt Sauce\, Cucumber Pepper Relish </span><br />\n&nbsp\;<br />\n&nbsp\;<br />\n<strong><u><span style="font-size:11.0pt\;">Entr&eacute\;e</span></u></strong><br />\n&nbsp\;<br />\n<em><span style="font-size:10.0pt\;">Choice of </span></em><br />\n&nbsp\;<br />\n<strong><span style="font-size:10.0pt\;">Saffron Seafood Risotto </span></strong><br />\n<span style="font-size:10.0pt\;">Creamy Arborio Rice\, Scallop\, Shrimp\, Calamari\, Fresh Fish\, Roasted Tomatoes\, Herbs </span><br />\n&nbsp\;<br />\n<strong><span style="font-size:10.0pt\;">Free Range Citrus Chicken </span></strong><br />\n<span style="font-size:10.0pt\;">Truffle Sweet Potato Mash\, Asian Baby Beans Gorgonzola Beurre Blanc </span><br />\n&nbsp\;<br />\n<strong><span style="font-size:10.0pt\;">Macadamia Crusted Snapper </span></strong><br />\n<span style="font-size:10.0pt\;">Spinach Risotto\, Raspberry Beaujolais Beurre Blanc </span><br />\n&nbsp\;<br />\n<strong><u><span style="font-size:11.0pt\;">Dessert</span></u></strong><br />\n&nbsp\;<br />\n<em><span style="font-size:10.0pt\;">Choice of </span></em><br />\n&nbsp\;<br />\n<strong><span style="font-size:10.0pt\;">Chef Kal&rsquo\;s Award-Winning Pecan Crusted Key Lime Pie</span></strong><br />\n&nbsp\;<br />\n<strong><span style="font-family:arial\,sans-serif\;"><span style="font-size:10.0pt\;">Mango &amp\; Raspberry Sorbet</span></span></strong><br />\n&nbsp\;\n<hr />\n<div style="text-align: left\;"><br />\n<strong>About A Fish Called Avalon</strong>\n\n<h2><span style="font-size:14px\;">LOCATION</span></h2>\n\n<p>At 700 Ocean Drive in Miami Beach\, A Fish Called Avalon is perfect for romantic dinners\, a family affair\, or a night out on the town. Located in the iconic Avalon Hotel the setting offers an authentic\, sophisticated South Beach experience. For over 30 years diners have enjoyed the Historic Art Deco setting and the creative menu.</p>\n\n<h2><span style="font-size:14px\;">LIVE MUSIC</span></h2>\n\n<p>A Latin-Caribbean duo entertains every night on the front porch.&nbsp\;&quot\;We just loved this place. The food was delicious\, the service was fun and attentive\, and the music was a perfect touch.&quot\; - CitySearch Member</p>\n\n<h2><span style="font-size:14px\;">HISTORY</span></h2>\n\n<p>Located in Miami Beach&#39\;s historic Art Deco District\, we are proud to have hosted a long list of celebrities including Harrison Ford\, Emilio and Gloria Estefan\, and Guy Ritchie among others.<br />\n<br />\nThis celebrated South Beach landmark\, has served as a backdrop for many films and photo shoots including Scarface\, Miami Vice\, Sidney Pollack&#39\;s film Random Hearts\, Old Dogs\, with John Travolta and Robin Williams\, and most recently Bad Boys 3 with Will Smith.<br />\n<br />\nThe 1955 Oldsmobile convertible parked in front of the restaurant stands as one of the most-photographed cars in America.</p>\n</div>\n</div>\n
LOCATION:A Fish Called Avalon 700 Ocean Dr\, Miami Beach\, FL 33139
UID:e.166.43898
SEQUENCE:3
DTSTAMP:20260423T102600Z
URL:https://business.miamibeachchamber.com/events/details/october-dinner-networker-43898
END:VEVENT

END:VCALENDAR
