BEGIN:VCALENDAR
VERSION:2.0
PRODID:-//ChamberMaster//Event Calendar 2.0//EN
METHOD:PUBLISH
X-PUBLISHED-TTL:P3D
REFRESH-INTERVAL:P3D
CALSCALE:GREGORIAN
BEGIN:VEVENT
DTSTART:20181110T140000Z
DTEND:20181110T220000Z
X-MICROSOFT-CDO-ALLDAYEVENT:FALSE
SUMMARY:Normandy Village Farmer's Market
DESCRIPTION:Located next to the Normandy Village newly restored fountain\, the market features a mix of organic\, local and conventional produce\, fresh baked goods\, orchids and cut flowers\, cheeses\, coffee\, prepared foods such as empanadas\, local products and more.
X-ALT-DESC;FMTTYPE=text/html:Located next to the Normandy Village newly restored fountain\, the market features a mix of organic\, local and conventional produce\, fresh baked goods\, orchids and cut flowers\, cheeses\, coffee\, prepared foods such as empanadas\, local products and more.
LOCATION:
UID:e.166.13144
SEQUENCE:3
DTSTAMP:20260422T015203Z
URL:https://business.miamibeachchamber.com/events/details/normandy-village-farmer-s-market-11-10-2018-13144
END:VEVENT

END:VCALENDAR
