BEGIN:VCALENDAR
VERSION:2.0
PRODID:-//ChamberMaster//Event Calendar 2.0//EN
METHOD:PUBLISH
X-PUBLISHED-TTL:P3D
REFRESH-INTERVAL:P3D
CALSCALE:GREGORIAN
BEGIN:VEVENT
DTSTART:20191026T033000Z
DTEND:20191026T080000Z
X-MICROSOFT-CDO-ALLDAYEVENT:FALSE
SUMMARY:NOCTURNE Late Night Performance Art Dance Party
DESCRIPTION:Nocturne features live DJ sets and musical acts by local artists set to heart-pounding\n\nbeats and striking vocals.\n\nPerformances will bur the lines between audience and artist with an impressive lineup of burlesque dancers\, aerialists\, acrobats\, musicians and more\, all of whom will join together to create a unique experience that's part cirque nouveau\, part dance rave and part Miami Beach nightclub.\n\nOn October 25\, join us for NOCTURNE's "L'Inferno" a hellish Halloween celebration where flames\, fiery passion and pyrotechnics take center stage. This special night will serve as a prelude to Faena's annual Halloween party in the hotel's Living Room on October 31\, "Disco Inferno."\n\nDJ Duo\, Paperwater will have partygoers dancing to deep house beats while themed performances entertain throughout the night.
X-ALT-DESC;FMTTYPE=text/html:<p style="text-align:center"><span style="font-size:16px"><strong>Nocturne</strong></span> features live DJ sets and musical acts by local artists set to heart-pounding<br />\nbeats and striking vocals.</p>\n\n<p style="text-align:center">Performances will bur the lines between audience and artist with an impressive lineup of burlesque dancers\, aerialists\, acrobats\, musicians and more\, all of whom will join together to create a unique experience that&#39\;s part cirque nouveau\, part dance rave and part Miami Beach nightclub.</p>\n\n<p style="margin-left:40px\; text-align:center">On October 25\, join us for <strong>NOCTURNE&rsquo\;s &ldquo\;L&rsquo\;Inferno&rdquo\; </strong>a hellish Halloween celebration where flames\, fiery passion and pyrotechnics take center stage. This special night will serve as a prelude to Faena&rsquo\;s annual Halloween party in the hotel&rsquo\;s Living Room on October 31\, &ldquo\;Disco Inferno.&rdquo\;</p>\n\n<p style="margin-left:40px\; text-align:center">DJ Duo\, Paperwater will have partygoers dancing to deep house beats while themed performances entertain throughout the night.</p>\n
LOCATION:FAENA THEATETR 3201 COLLINS AVE MIAMI BEACH\, FL 33140
UID:e.166.44046
SEQUENCE:3
DTSTAMP:20260423T115620Z
URL:https://business.miamibeachchamber.com/events/details/nocturne-late-night-performance-art-dance-party-44046
END:VEVENT

END:VCALENDAR
